BEGIN:VCALENDAR
VERSION:2.0
PRODID:-//EDIH CTU - ECPv6.15.20//NONSGML v1.0//EN
CALSCALE:GREGORIAN
METHOD:PUBLISH
X-WR-CALNAME:EDIH CTU
X-ORIGINAL-URL:https://www.edihctu.eu
X-WR-CALDESC:Akce na EDIH CTU
REFRESH-INTERVAL;VALUE=DURATION:PT1H
X-Robots-Tag:noindex
X-PUBLISHED-TTL:PT1H
BEGIN:VTIMEZONE
TZID:Europe/Helsinki
BEGIN:DAYLIGHT
TZOFFSETFROM:+0200
TZOFFSETTO:+0300
TZNAME:EEST
DTSTART:20230326T010000
END:DAYLIGHT
BEGIN:STANDARD
TZOFFSETFROM:+0300
TZOFFSETTO:+0200
TZNAME:EET
DTSTART:20231029T010000
END:STANDARD
BEGIN:DAYLIGHT
TZOFFSETFROM:+0200
TZOFFSETTO:+0300
TZNAME:EEST
DTSTART:20240331T010000
END:DAYLIGHT
BEGIN:STANDARD
TZOFFSETFROM:+0300
TZOFFSETTO:+0200
TZNAME:EET
DTSTART:20241027T010000
END:STANDARD
BEGIN:DAYLIGHT
TZOFFSETFROM:+0200
TZOFFSETTO:+0300
TZNAME:EEST
DTSTART:20250330T010000
END:DAYLIGHT
BEGIN:STANDARD
TZOFFSETFROM:+0300
TZOFFSETTO:+0200
TZNAME:EET
DTSTART:20251026T010000
END:STANDARD
END:VTIMEZONE
BEGIN:VEVENT
DTSTART;TZID=Europe/Helsinki:20240620T100000
DTEND;TZID=Europe/Helsinki:20240620T130000
DTSTAMP:20260419T173406
CREATED:20240425T090416Z
LAST-MODIFIED:20240516T073528Z
UID:2076-1718877600-1718888400@www.edihctu.eu
SUMMARY:AI Act a další právní předpisy
DESCRIPTION:Zveme Vás na druhý ze série workshopů spoluorganizovaných konsorciálním partnerem EDIH CTU Svazem průmyslu a dopravy ČR a ICT unií zaměřených na vybraná témata pro poskytovatele systémů a produktů využívajících umělou inteligenci. Tento workshop se uskuteční 20. 6. 2024 a jeho hlavním tématem jsou informace o AI Actu a dalších právních předpisech. \nAkce proběhne hybridně online a v pražské kanceláři KPMG. \nRegistrovat se můžete zde\, účast na akci je zdarma. \n \n 
URL:https://www.edihctu.eu/event/ai-act-a-dalsi-pravni-predpisy/
ATTACH;FMTTYPE=image/png:https://www.edihctu.eu/wp-content/uploads/2024/04/Sablona-pro-webovou-zpravu-6.png
END:VEVENT
END:VCALENDAR