BEGIN:VCALENDAR
VERSION:2.0
PRODID:-//EDIH CTU - ECPv6.15.20//NONSGML v1.0//EN
CALSCALE:GREGORIAN
METHOD:PUBLISH
X-ORIGINAL-URL:https://www.edihctu.eu
X-WR-CALDESC:Akce na EDIH CTU
REFRESH-INTERVAL;VALUE=DURATION:PT1H
X-Robots-Tag:noindex
X-PUBLISHED-TTL:PT1H
BEGIN:VTIMEZONE
TZID:Europe/Helsinki
BEGIN:DAYLIGHT
TZOFFSETFROM:+0200
TZOFFSETTO:+0300
TZNAME:EEST
DTSTART:20240331T010000
END:DAYLIGHT
BEGIN:STANDARD
TZOFFSETFROM:+0300
TZOFFSETTO:+0200
TZNAME:EET
DTSTART:20241027T010000
END:STANDARD
BEGIN:DAYLIGHT
TZOFFSETFROM:+0200
TZOFFSETTO:+0300
TZNAME:EEST
DTSTART:20250330T010000
END:DAYLIGHT
BEGIN:STANDARD
TZOFFSETFROM:+0300
TZOFFSETTO:+0200
TZNAME:EET
DTSTART:20251026T010000
END:STANDARD
BEGIN:DAYLIGHT
TZOFFSETFROM:+0200
TZOFFSETTO:+0300
TZNAME:EEST
DTSTART:20260329T010000
END:DAYLIGHT
BEGIN:STANDARD
TZOFFSETFROM:+0300
TZOFFSETTO:+0200
TZNAME:EET
DTSTART:20261025T010000
END:STANDARD
END:VTIMEZONE
BEGIN:VEVENT
DTSTART;TZID=Europe/Helsinki:20250513T140000
DTEND;TZID=Europe/Helsinki:20250513T153000
DTSTAMP:20260419T190703
CREATED:20250328T120411Z
LAST-MODIFIED:20251128T120116Z
UID:3447-1747144800-1747150200@www.edihctu.eu
SUMMARY:AI dovednosti pro MSP: Marketing strategie a AI
DESCRIPTION:Dovolujeme si Vás pozvat na webinář\, který připravil konsorciální partner EDIH CTU – Asociace malých a středních podniků a živnostníků – ve spolupráci s Google pro malé a střední podniky. \nČtvrtý ze série webinářů na téma AI dovednosti pro malé a střední podniky je zde! \nKDY: 13. 5. 2025 \nČAS: 14:00 – 15:30 \nKDE: online na platformě Google Meet \nPřednášející: Tomáš Schwarz \nTomáš je marketingový stratég. Zakladatel full-servisové agentury Upster se 40 experty. Než začal firmám pomáhat agenturně\, působil řadu let jako freelancer a interim CMO. Pomohl tak desítkám firem stabilizovat jejich marketingový tým. A nakonec je dovedl i k potřebným strategickým cílům. Ať už to byl EXIT nebo dostat se z propadu do růstu. V PPC proinvestoval přes 400 milionů korun napříč celým světem a vygeneroval miliardy v tržbách. \nVstup zdarma po předchozí registraci ZDE. \n 
URL:https://www.edihctu.eu/event/ai-dovednosti-pro-msp-4/
CATEGORIES:Google Digitální Garáž,spoluorganizujeme
ATTACH;FMTTYPE=image/jpeg:https://www.edihctu.eu/wp-content/uploads/2025/11/Google-DigiGar_250513.jpg
END:VEVENT
BEGIN:VEVENT
DTSTART;TZID=Europe/Helsinki:20250514T093000
DTEND;TZID=Europe/Helsinki:20250514T163000
DTSTAMP:20260419T190703
CREATED:20250505T124554Z
LAST-MODIFIED:20250505T124646Z
UID:2819-1747215000-1747240200@www.edihctu.eu
SUMMARY:AI in Everyday Life: Awareness\, Ethics & Practical Use
DESCRIPTION:Join us for a full-day interactive workshop designed to explore how artificial intelligence impacts your daily life—and how to engage with it critically\, ethically\, and effectively. Whether you’re curious\, sceptical\, or already using AI tools\, this workshop is for you! \nWho Will Be You Lecturer \nMaria Sahakyan is a postdoctoral researcher at NYU Abu Dhabi\, with a PhD in Computer Science and a background that bridges engineering\, finance\, and sustainability. Her work spans explainable AI\, computational social science\, and large-scale data analysis — with a focus on making algorithmic systems more transparent\, fair\, and grounded in real-world impact. \nMaria’s current research projects include: \n\nAnalysing 80\,000 peer reviews from 30\,000 scientific articles to examine how reviewer tone and bias are shaped by authors‘ gender\, race\, and institutional rank\nStudying scientist migration patterns and the effects of relocation on productivity\, collaboration\, and academic success\nInvestigating career discrimination using ~300 million LinkedIn CVs\, with a focus on how gender and race influence professional trajectories\nDeveloping explainable AI tools that improve how we interpret and audit machine learning models — the core of her dissertation\n\nBeyond her academic work\, Maria has contributed to projects in energy systems modelling\, statistical consulting\, and algorithmic transparency\, bringing a unique interdisciplinary and global lens to her research. \nWhat You’ll Learn\n\n>>How AI really works (no jargon needed!)\n>>How to spot and avoid AI bias and misinformation\n>>How generative tools like ChatGPT and DALL·E create content\n>>Practical AI tools you can use today\n>>How to write better prompts for smarter AI responses\n>>What AI means for the future—and how to stay ahead\n\n  \nFull-Day Program Overview\n9:00 – 9:30 | Registration  \n9:30 – 10:00 | Introduction & Icebreaker \n\n>>Quiz: Test your AI awareness\n>>Group chat: Where do you meet AI in daily life?\n>>Debunking myths: AI as a tool\, not a threat\n\n10:00 – 10:45 | Foundations of AI \n\n>>How AI\, Machine Learning & Deep Learning work\n>>AI bias explained + transparency tools\n>>Interactive: Visualising AI decisions using SHAP/LIME\n\n10:45 – 11:30 | Generative AI: Text\, Images & More \n\n>>Behind the scenes of ChatGPT\, DALL·E\, and others\n>>Hands-on demo: See AI generate content live\n>>Ethical concerns & how to spot misinformation\n\n11:30 – 11:45 | Coffee Break \n11:45 – 12:30 | AI Risks & How to Mitigate Them \n\n>>Topics: Privacy\, bias\, job automation\, deepfakes\n>>Activity: Team challenge to solve real-world AI issues\n\n12:30 – 13:00 | Public Perception of AI \n\n>>Czech public opinion: Surprising results from recent surveys\n>>Group talk: Fears vs. Facts\n\n13:00 – 14:00 | Lunch Break \n14:00 – 14:50 | AI Tools in Everyday Life \n\n>>Tools for productivity\, education\, healthcare\, and finance\n>>Tips for ethical\, mindful use of AI tools\n\n14:50 – 15:35 | Prompt Engineering: Talk to AI Like a Pro \n\n>>How prompts shape AI responses\n>>Practice: Test and refine your own AI prompts\n\n15:35 – 16:05 | The Future of AI \n\n>>Where AI is heading: trends\, ethics\, and regulation\n>>Group reflections and Q&A\n\n16:05 – 16:30 | Wrap-Up & Feedback \n\n>>Post-workshop survey\n>>Share your thoughts and takeaways\n>>Resource pack for continued learning\n\nWhat’s Included\n\n>>Presentation slides & live demos\n>>Prompt engineering scripts\n>>Case studies on AI ethics\n>>List of recommended AI tools & learning platforms\n\nWhy Attend?\n\n>>No tech background needed\n>>Interactive & hands-on sessions\n>>Real-world examples & discussions\n>>Learn from experts & peers\n\n  \nAre you interested? Please register here!
URL:https://www.edihctu.eu/event/ai-in-everyday-life-awareness-ethics-practical-use/
CATEGORIES:spoluorganizujeme
ATTACH;FMTTYPE=image/png:https://www.edihctu.eu/wp-content/uploads/2025/05/AI-in-Everyday-Life2.png
END:VEVENT
BEGIN:VEVENT
DTSTART;TZID=Europe/Helsinki:20250520T140000
DTEND;TZID=Europe/Helsinki:20250520T153000
DTSTAMP:20260419T190703
CREATED:20250328T120825Z
LAST-MODIFIED:20251128T120715Z
UID:3450-1747749600-1747755000@www.edihctu.eu
SUMMARY:AI dovednosti pro MSP: LEADERSHIP V DIGITÁLNÍ DOBĚ
DESCRIPTION:Dovolujeme si Vás pozvat na webinář\, který připravil konsorciální partner EDIH CTU – Asociace malých a středních podniků a živnostníků – ve spolupráci s Google pro malé a střední podniky. \nPátý ze série webinářů na téma AI dovednosti pro malé a střední podniky je zde! \n  \nTÉMA: LEADERSHIP V DIGITÁLNÍ DOBĚ \nKDY: 20. 5. 2025 \nČAS: 14:00 – 15:30 \nKDE: online na platformě Google Meet \nPřednášející: Alexandra Guttmann \nAlex je zkušená projektová a produktová manažerka\, lektorka a facilitátorka měkkých dovedností s tímto zaměřením souvisejícími. Má zkušenosti ze startupů\, korporátů i z menších lokálních projektů\, ale také z  projektů v mezinárodním prostředí\, například Data mappingv souvislosti s připraveností společnosti Dell Technologies na GDPR. Vedla agilní Scrum a KanBan týmy jako Scrum Master a Product Manager. Je majitelkou několika mezinárodně uznávaných certifikátů. \nVstup zdarma po předchozí registraci ZDE. \n 
URL:https://www.edihctu.eu/event/ai-dovednosti-pro-msp-5/
CATEGORIES:Google Digitální Garáž,spoluorganizujeme
ATTACH;FMTTYPE=image/jpeg:https://www.edihctu.eu/wp-content/uploads/2025/11/Google-DigiGar_250520.jpg
END:VEVENT
BEGIN:VEVENT
DTSTART;TZID=Europe/Helsinki:20250522T094500
DTEND;TZID=Europe/Helsinki:20250522T143000
DTSTAMP:20260419T190703
CREATED:20250429T175445Z
LAST-MODIFIED:20250429T175446Z
UID:2804-1747907100-1747924200@www.edihctu.eu
SUMMARY:Jak zajistit\, aby byly výrobní technologie bezpečné a odolné vůči hrozbám?
DESCRIPTION:Dovolujeme si Vás pozvat na jedinečnou konferenci do Hradce Králové dne 22. 5. 2025\, kde se dozvíte\, jak zajistit\, aby vaše výrobní technologie byly bezpečné a odolné vůči hrozbám. \nSoučasná výrobní zařízení obsahují rozsáhlou výpočetní techniku rozmístěnou v různých úrovních řízení průmyslových procesů. Tato infrastruktura se v posledních letech začala označovat termínem OT (Operational Technology) jako odlišení od IT (Information Technology)\, která se soustředí zejména na správu informací a dat.\nIntegrovaná bezpečnost OT systémů spočívá v kombinaci ochrany proti kybernetickým hrozbám a zajištění provozní spolehlivosti a odolnosti vůči selhání technologie. Donedávna byly tyto dvě oblasti zabezpečení odděleny a spravovány různými složkami podniku. Aktuálně však dochází ke sjednocení přístupů k zabezpečení OT systémů\, což bude klíčovým tématem naší konference. Je totiž faktem\, že kybernetické útoky stejně jako provozní selhání směřující proti výrobním provozům\, mohou mít výrazně závažnější dopady než útoky na klasické IT systémy. \nCo si odnesete?\n\nSeznámíte se s novými standardy a normami pro zabezpečení OT infrastruktury\,\ndozvíte se o praktických zkušenostech a metodách ochrany výrobních zařízení před kybernetickými hrozbami\na poznáte moderní řešení propojující kybernetickou bezpečnost s provozní odolností proti selhání.\n\nObčerstvení na akci zajištěno. Účast je po registraci ZDARMA. \n  \n \n \n 
URL:https://www.edihctu.eu/event/jak-zajistit-aby-byly-vyrobni-technologie-bezpecne-a-odolne-vuci-hrozbam/
LOCATION:KÚ Královéhradeckého kraje\, Pivovarské nám. 1245\, Hradec Králové\, 500 03
CATEGORIES:spoluorganizujeme
ATTACH;FMTTYPE=image/png:https://www.edihctu.eu/wp-content/uploads/2025/04/Konference-HK_NEB.png
END:VEVENT
BEGIN:VEVENT
DTSTART;TZID=Europe/Helsinki:20250528T133000
DTEND;TZID=Europe/Helsinki:20250528T210000
DTSTAMP:20260419T190703
CREATED:20250526T084115Z
LAST-MODIFIED:20250526T102155Z
UID:2835-1748439000-1748466000@www.edihctu.eu
SUMMARY:Regulace umělé inteligence - seminář
DESCRIPTION:Dovolujeme si Vás pozvat na seminář\, který pořádá Česká asociace elektronických komunikací ve spolupráci s Deloitte\, Svazem průmyslu a dopravy ČR a EDIH CTU. \n  \nPROGRAM\n13:30–14:00    Registrace účastníků \n14:00–14:15    Úvodní slovo – Rostislav Kocman\, předseda ČAEK                                                 \n14:15–15:00    Historie AI actu a institucionální ukotvení regulace AI v ČR \n\nMarek Ebert (Český telekomunikační úřad)\,\nDaniel Všetečka (Ministerstvo průmyslu a obchodu)\,\nHynek Stehlík (Ministerstvo kultury)\,\nDeloitte Legal\,\nEDIH CTU\n\n15:00–15:45    Autorskoprávní aspekty související s umělou inteligencí \n\nAntonín Hedrlín (ČAEK\, HBO)\,\nAdéla Faladová (Ministerstvo kultury)\,\nTomáš Dobřichovský (advokát a přednášející)\,\nHana Gawlasová (Deloitte Legal)\n\n15:45-16:15     Coffee break \n16:15–17:00    Regulace a dohled nad AI v ČR a dopady na byznys \n\nŠárka Němečková (Český telekomunikační úřad)\,\nLenka Kučerová (PRG.AI)\,\nTomáš Krejčí (T-Mobile)\,\nMichal Krejčík (O2)\n\n17:00-21:00     Networking a neformální diskuse na terase \nRegistrovat na akci se můžete zde.
URL:https://www.edihctu.eu/event/regulace-umele-inteligence-seminar/
CATEGORIES:spoluorganizujeme
ATTACH;FMTTYPE=image/png:https://www.edihctu.eu/wp-content/uploads/2025/05/Regulace-AI.png
END:VEVENT
END:VCALENDAR