BEGIN:VCALENDAR
VERSION:2.0
PRODID:-//EDIH CTU - ECPv6.15.20//NONSGML v1.0//EN
CALSCALE:GREGORIAN
METHOD:PUBLISH
X-WR-CALNAME:EDIH CTU
X-ORIGINAL-URL:https://www.edihctu.eu
X-WR-CALDESC:Akce na EDIH CTU
REFRESH-INTERVAL;VALUE=DURATION:PT1H
X-Robots-Tag:noindex
X-PUBLISHED-TTL:PT1H
BEGIN:VTIMEZONE
TZID:Europe/Helsinki
BEGIN:DAYLIGHT
TZOFFSETFROM:+0200
TZOFFSETTO:+0300
TZNAME:EEST
DTSTART:20240331T010000
END:DAYLIGHT
BEGIN:STANDARD
TZOFFSETFROM:+0300
TZOFFSETTO:+0200
TZNAME:EET
DTSTART:20241027T010000
END:STANDARD
BEGIN:DAYLIGHT
TZOFFSETFROM:+0200
TZOFFSETTO:+0300
TZNAME:EEST
DTSTART:20250330T010000
END:DAYLIGHT
BEGIN:STANDARD
TZOFFSETFROM:+0300
TZOFFSETTO:+0200
TZNAME:EET
DTSTART:20251026T010000
END:STANDARD
BEGIN:DAYLIGHT
TZOFFSETFROM:+0200
TZOFFSETTO:+0300
TZNAME:EEST
DTSTART:20260329T010000
END:DAYLIGHT
BEGIN:STANDARD
TZOFFSETFROM:+0300
TZOFFSETTO:+0200
TZNAME:EET
DTSTART:20261025T010000
END:STANDARD
END:VTIMEZONE
BEGIN:VEVENT
DTSTART;TZID=Europe/Helsinki:20251112T153000
DTEND;TZID=Europe/Helsinki:20251112T210000
DTSTAMP:20260420T102909
CREATED:20251020T121035Z
LAST-MODIFIED:20251020T121035Z
UID:3357-1762961400-1762981200@www.edihctu.eu
SUMMARY:Young AI Research Forum 2025
DESCRIPTION:  \n  \nYoung AI Research Forum 2025 AI as Driver for Multidisciplinary Research\nExchange | Discuss | Network\n  \nYoung AI Research Forum provides an opportunity for ML/AI PhD students\, junior researchers\, undergraduate students\, and start-ups from Czech academic institutions to delve deeper into topics relevant to all. \n\n  \nThe event is co-organised by: \n\n\n\n\n  \n\n\n\n\n  \nWith great support and auspices of: \n\n\n\n\n    \n\n\n\n\n\n\n\n\n\nYoung AI Research Forum strives to provide an interesting opportunity not only to ML/AI PhD students and junior researchers but also to undergraduate students and start-ups with an interest in research careers from across Czech academic institutions to delve deeper into topics that are relevant to all. Whether it’s developing a strong research brand\, collaborating with industry or addressing global challenges exacerbated by the use of AI technologies towards responsible AI research.\n\nThe event is part of CLARA Days and is also organised within Dny AI (AI Days)\, taking place across the Czech Republic to broaden AI horizons of the academic\, business\, civil sector and general public worlds. \n  \n\nAim of the Young AI Research Forum:\nThe aim is to create an environment for gaining practical know-how\, sharing experience and establishing new relationships\, as well as to open horizons and help career and personal development. \nThis will be achieved through several expert presentations\, thematic networking and networking. It also aims to shed light on individual research projects and help to establish research collaborations. Attendees are thus encouraged to bring their existing scientific posters and take part in brief pitches to introduce their research. \n\nShowcase Your Work: Present your AI-powered research or project during our pitching session and poster display. It’s a great chance to get feedback and highlight what you’re working on.\nActive Participation: Take an active role by choosing discussion topics and engaging with others. This is your event to shape and contribute to.\nNetwork and Learn: Connect with AI peers and professionals to exchange ideas\, get practical advice\, as well as share experiences and different perspectives to help you grow in your field.\n\n  \nREGISTER by 4 November 2025 here. \n\n\n\n\n\nWho Should Attend? \n\nUndergrad students interested in a research career\nPhD students and postdocs from technical universities in Prague and beyond\nEarly-stage researchers from academic teams\nYoung researchers from tech companies & start-ups\n\n\n\n\nWhat Can You Expect?\n\n\nInformal discussions in a relaxed setting\nAn open and welcoming environment\nLightning talks and quick idea pitches\nNetworking opportunities that could spark future collaborations\nA variety of inspiring topics to help advance your career\nInteractive\, inclusive and co-created content\n\n  \nWhat Research Areas Are Welcome? \n\n\nWe welcome researchers from all fields\, but the event is especially geared toward those working in AI-related areas such as: \n\nMachine Learning\nSpeech & Natural Language Processing\nComputer Vision\nReasoning\nRobotics\nCognitive Computing\nReinforcement Learning\nMulti-Agent Systems & Agent-Based Modelling\nPlanning\, Routing & Scheduling\nEthical\, Legal & Social Aspects of AI\n\n… and more! \n  \n\n\n\n\n\nWhat’s on the Agenda?\nHere’s what you can expect — three engaging keynote speeches\, presentations and posters (yours or from your peers)\, thematic networking stations where you can dive into discussions on topics that matter to you. You’ll also get a chance to shine with a pitching session and poster display. Plus\, there’ll be plenty of networking and knowledge exchange opportunities. It’s all about sharing ideas\, showcasing your work\, and connecting with the rising AI community. \n  \nLenka Kučerová from prg.ai will moderate the event and guide you through the afternoon\, keeping things moving and making sure the event runs smoothly. \n\n\n\n\n\n\n\n\n\n15:30-16:00 \nRegistration: CIIRC CTU\, Jugoslávských partyzánů 1580/3\, Prague 6 – Dejvice\n\n\n\nCheck in\, pick up your name tag\, and get ready to dive into an evening of AI goodness. Arrive a bit early to settle in\, meet a few new faces\, and maybe enjoy a coffee before the program kicks off. Do not miss the opportunity to investigate what’s new at our poster area. \n\n\n\n\n\n\n\n\n\n\n\n16:00-16:10 \nOpening and welcome through an inspiring speech\n\n\n\nLet’s kick things off! We’ll start with a warm welcome to set the vibe for the evening – exciting talks\, engaging discussions\, and plenty of opportunities to connect. Guiding us through it all will be Lenka Kučerová\, who’ll ensure everything runs smoothly. To open the event on behalf of CLARA\, Vít Dočkal will present his fresh perspective on funding scientific innovations to spark interesting conversations. So\, sit back\, relax\, and get ready for an inspiring evening! \nVít Dočkal\, INDRC: „Financing Science through SPVs and Pre-seed Funds – A New Approach to Commercialization and Tech Transfer.“ \n\n\n\n\n\n\n\n\n\n\n\n16:10-16:40 \nKeynote #1: Josef Šivic\, CIIRC CTU on „AI in Multidisciplinary Science“\n\n\n\nJosef Šivic is an ERC Advanced grant beneficiary and a leading Czech AI researcher at CIIRC CTU\, where he heads the Intelligent Machine Perception (IMPACT) group and the ELLIS Unit Prague. After studying in Oxford and working in Paris\, he now focuses on teaching machines to understand the 3D world around us. In his talk “AI in Multidisciplinary Science” he’ll show how AI isn’t just about technology – it’s also helping us make discoveries in medicine\, neuroscience and other exciting fields. \n\n\n\n\n\n\n\n\n\n\n\n16:40-17:40 \nPitching sessions: Ready to show off your work?\n\n\n\nThe pitching sessions are your time to shine! Whether you’ve got an interesting research idea\, a cool project\, or some fresh findings\, here’s your chance to share it with the group. \nYou’ll have a few minutes to make your pitch – keep it snappy\, engaging\, and be ready for some quick feedback. It’s a fast-paced\, easy way to get your ideas out there and maybe even inspire some collaborations on the spot. \nWe expect to welcome up to 12 talks/pitches of about 5 minutes each. So feel free to use the space to take the floor! \nTo sign up for the pitching session\, simply fill in the relevant parts of the registration form. \n\n\n\n\n\n\n\n\n\n\n\n17:40-17:50 \nCoffee break\n\n\n\n\n\n\n\n\n\n\n17:50-18:20 \nKeynote #2: Anton and Roman Bushuiev (CIIRC CTU and IOCB) on „How to start international collaboration in multidisciplinary research – concrete experiences“\n\n\n\nAnton and Roman Bushuiev\, early-career twin researchers from the groups of Dr. Josef Šivic (machine learning) and Dr. Tomáš Pluskal (biology)\, about their talk: \n„The most impactful scientific projects often emerge from international collaborations\, which are especially crucial in interdisciplinary research. From this perspective\, we will share our experience with initiating and maintaining collaborative projects at the intersection of AI and biology. As a case study\, we will discuss the development of MassSpecGym\, a benchmarking framework for molecule discovery that we initiated and carried out jointly with 30 researchers from 14 institutions worldwide. We will also reflect on lessons learned from ongoing collaborations with globally renowned institutions\, including the Massachusetts Institute of Technology and Seoul National University.“ \n\n\n\n\n\n\n\n\n\n\n\n18:20-18:50 \nKenote #3: Karolína Pštross on „Science Communication – Hands-on session“\n\n\n\nBeyond the AI Buzz: How to Tell and Sell Your Research Story Without Feeding the Hype \nCommunicating AI research isn’t easy. The work is complex\, and headlines are often louder than the findings themselves. Learning how to share your research responsibly can make a real difference — not only in public debate\, but also in your career as a young AI researcher. In this talk\, I’ll touch on some basics of science communication\, reflect on how AI stories are told\, and explore how engaging with different audiences can build trust while opening doors for collaboration. \nKarolína Pštross is a Science Communication scholar and practitioner. She is a PhD candidate at the Institute of Communication Studies and Journalism (Charles University) and leads communications at the AI Center at FEE CTU (Czech Technical University in Prague). She is passionate about empowering researchers to share their stories. \n\n\n\n\n\n\n\n\n\n\n\n18:50-19:00 \nCLARA Young Innovator Award 2026: Announcement of the first edition of this award\n\n\n\nBe the first to hear about a brand-new CLARA Young Innovator Award celebrating exceptional young talent in science and innovation! This biennial award will spotlight bold digital technologies that improve the lives of ageing populations. The first edition will be awarded in 2026 – and the journey starts here at the Young AI Research Forum\, where we reveal the specific terms and conditions. Don’t miss this chance to get inspired and maybe even become the very first CLARA Young Innovator! \nThe announcement will be made by Vít Dočkal\, Director of INDRC and Chair of the CLARA Supervisory Board. \n\n\n\n\n\n\n\n\n\n\n\n19:00-21:00 \nNetworking\n\n\n\n\nGrab a drink\, relax\, and get ready to mingle! We’ve created thematic clusters where you can choose the topics that interest you the most. At different stations\, you’ll have the chance to chat with fellow attendees\, exchange ideas\, and dive into discussions that matter to you. Feel free to move between topics\, meet new people\, and explore a variety of perspectives.\nAttendees will have the chance to explore some intriguing AI showcases at the RICAIP Testbed Prague. Our young researchers will be on hand to offer a glimpse into their work\, allowing you to discover the possibilities and applications of AI in ways you might not expect.\n\nAround 21:00\, we’ll head home\, and look forward to the next time we can come together to share more AI insights and ideas. See you at the next event!
URL:https://www.edihctu.eu/event/young-ai-research-forum-2025/
LOCATION:Český institut informatiky\, robotiky a kybernetiky\, ČVUT\, Jugoslávských partyzánů 1580/3\, Praha 6\, 16000
CATEGORIES:Dny AI,spoluorganizujeme
ATTACH;FMTTYPE=image/jpeg:https://www.edihctu.eu/wp-content/uploads/2025/10/YAIRF.jpg
END:VEVENT
BEGIN:VEVENT
DTSTART;TZID=Europe/Helsinki:20251110T083000
DTEND;TZID=Europe/Helsinki:20251110T110000
DTSTAMP:20260420T102909
CREATED:20251024T203344Z
LAST-MODIFIED:20251024T203747Z
UID:3387-1762763400-1762772400@www.edihctu.eu
SUMMARY:AI for industry – Budoucnost začíná dnes
DESCRIPTION:AI for industry – Budoucnost začíná dnes\n\n  \nObjevte\, jak AI transformuje firemní procesy – od HR\, přes obchod až po technologie! Přijďte se inspirovat reálnými příklady\, vyzkoušejte si AI agenty naživo a získejte strategickou výhodu pro svou firmu. \nZveme vás na konferenci zaměřenou na praktické využití umělé inteligence v průmyslových podnicích. Akce propojí zkušenosti firem ADEON CZ\, TIC Zlín\, TD SYNNEX\, EDIH CTU a HPE\, které představí konkrétní řešení a přístupy k implementaci AI ve výrobním prostředí. \nTémata konference:\n\nMicrosoft Copilot – praktické využití AI asistenta v každodenní práci\nTvorba AI agentů – jak automatizovat procesy pomocí inteligentních nástrojů\nDigitální transformace výroby – inspirativní pohled Davida Peška na moderní nástroje a strategie\, které mění způsob\, jakým firmy plánují\, vyrábějí a inovují. Ukázky úspěchů i slepých uliček inovačních projektů  z českého prostředí a spolupráce s ČVUT\nPrivátní AI řešení od HPE – bezpečná a výkonná infrastruktura pro firemní AI bez nutnosti cloudových služeb\n\nPro koho je konference určena?\n\nTop management a vedení firmy\nPro CEO\, CFO a další členy vedení firem\, kteří hledají strategické výhody v digitální transformaci. Představíme\, jak implementace AI agentů mění firemní procesy\, zvyšuje produktivitu a přináší hmatatelné úspory a ROI.\nTechnický management\nPro technické manažery a specialisty\, kteří hledají nové způsoby\, jak optimalizovat procesy ve firmě. Uvidíte konkrétní ukázky\, jak AI agenti mohou automatizovat rutinní úkoly\, poskytovat rychlý přístup k technickým informacím a podporovat rozhodování v reálném čase. V interaktivní AI zóně si můžete vše vyzkoušet naživo.\nIT specialisté a integrátoři\nPro IT týmy\, kteří se zajímají o technickou stránku nasazení AI agentů a moderní infrastruktury. Ukážeme\, jak funguje integrace do Microsoft Teams\, jak využít platformu Copilot Studia a co je potřeba pro bezpečný a škálovatelný provoz.\nObchodní a prodejní vedení\nPro vedení obchodních týmů\, obchodní manažery\, kteří chtějí zefektivnit přípravu nabídek a zlepšit zákaznickou komunikaci. AI agenti ukážou\, jak rychle získat potřebná data\, připravit nabídky a reporty\, a jak automatizovat opakující se procesy.\nHR a personalisté\nPro personalisty\, HR manažery a týmy zaměřené na onboarding a interní komunikaci. AI agenti vám umožní zrychlit zpracování dotazníků\, odpovídat na nejčastější dotazy nových zaměstnanců a zjednodušit administrativní úkony.\n\nProgram\n\n\n 8:30 – 9:00\n\n\n\nRegistrace a welcome coffee​\n\n\n\n\n\n\n\n\n\n\n9:00 – 9:15\n\n\nÚvodní slovo​\n\n\n\n\n\n\n\n\n\n\n9:15 – 9:30\n\n\n\nPředstavení organizátorů a partnerů​ – Pavel Bartík + Jaroslav Kamenčák \n\nADEON CZ s.r.o. – technologický partner pro digitalizaci a automatizaci​\nTIC Zlín – podpora inovací a rozvoje podnikání ve Zlínském kraji​\nTD Synnex – MS Copilot řešení\, dodavatel SW a HW​\nEDIH CTU – Evropské centrum pro digitální inovace při Českém vysokém učení technickém v Praze\n\n\n\n\n\n\n\n\n\n\n\n\n9:30 – 10:15\n\n\n\nDigitální transformace výroby – EDIH CTU – David Pešek \n\nmoderní nástroje a strategie\, které mění způsob\, jakým firmy plánují\, vyrábějí a inovují.\núspěchy i slepé uličky inovačních projektů z českého prostředí a zkušenosti ze spolupráce s ČVUT.\n\n\n\n\n\n\n  \n\n\n\n\n10:15 – 11:00\n\n\n\nTvorba AI agentů pomocí Copilot Studio​ –Roman Slobodník + Barbora Chovancová \n\nCo je Copilot Studio a jak funguje​\nArchitektura agentů: vstupy\, výstupy\, paměť\, nástroje​\nJak navrhnout agenta pro konkrétní firemní potřeby\n\n\n\n\n\n\n\n\n\n\n\n\n11:00 – 11:45\n\n\nPauza na oběd\, coffee\, diskuze a program​\n\n\n\n\n\n\n\n\n\n\n\n11:45 – 12:30\n\n\n\nNázorné ukázky a Use Case scénáře​ – Roman Slobodník + Tomáš Máčalík \n\nAgent pro zákaznickou podporu ve výrobní firmě​\nAutomatizace interních procesů (např. HR\, údržba\, reporting)​\nIntegrace s podnikovými systémy (např. ERP\, CRM)​\n\n\n\n\n\n\n\n\n\n\n\n\n12:30 – 13:15\n\n\n\nHPE Private Cloud AI -​ Michal Duba + Ladislav Pecen \n\nJak řešit otázku bezpečnosti​\nHPE řešení​\nBezpečnost a výkon pod kontrolou\n\n\n\n\n\n\n\n\n\n\n\n\n13:15 – 13:30\n\n\n\nZávěr​ – Pavel Bartík \n\nShrnutí hlavních poznatků​\nDoporučení pro další kroky​\nPozvání k individuálním konzultacím​\n\n\n\n\n\n\n\n\n\n\n\n\nDoprovodný program\n\n\n\nZažijte AI v akci. V naší AI zóně si vyzkoušíte\, jak může umělá inteligence pomoci vašim týmům. Interaktivní stanice vám představí specializované AI agenty z různých oblastí\, jako je HR\, obchod nebo technologie. Na vlastní kůži zažijete\, jak snadno a efektivně zvládají každodenní úkoly. \nVedle toho budete mít možnost osobně otestovat řešení HPE\, která přinášejí moderní infrastrukturu pro AI i datově náročné aplikace. \n\n\n\n\n\n\n\n\n  \n\nRegistrace\nÚčast je bezplatná po předchozí registraci zde\, nejpozději do 7. 11. 2025.
URL:https://www.edihctu.eu/event/ai-for-industry-budoucnost-zacina-dnes/
CATEGORIES:Dny AI,účastníme se
ATTACH;FMTTYPE=image/jpeg:https://www.edihctu.eu/wp-content/uploads/2025/10/AI-for-industry_web.jpg
END:VEVENT
BEGIN:VEVENT
DTSTART;TZID=Europe/Helsinki:20251107T090000
DTEND;TZID=Europe/Helsinki:20251107T150000
DTSTAMP:20260420T102909
CREATED:20251007T095254Z
LAST-MODIFIED:20251030T142206Z
UID:3243-1762506000-1762527600@www.edihctu.eu
SUMMARY:AI for gov 2025
DESCRIPTION:Po roce Vás opět srdečně zveme na vzdělávací a networkingovou akci AI for gov – AI ve veřejné správě\, kterou organizujeme společně s prg.ai a Centrem pro regionální rozvoj České republiky. \nAkce se uskuteční v rámci Dnů AI 2025 v prostorách Českého institutu informatiky\, robotiky a kybernetiky při Českém vysokém učení technickém v Praze dne 7. 11. 2025 od 9:00 hod. \nI letos nabídneme zájemcům možnost prohlédnout si prostory testbedu RICAIP. \n  \nA na co se můžete těšit?\n9:00-10:30  \nAI ve veřejné správě                  \n\nZahájení (Lukáš Kačena\, prg.ai)\nÚvodní slovo nejvyššího státního tajemníka (Jindřich Fryč\, MV ČR)\nNezaspat\, nebát se\, neobjevovat kolo (Petr Štěpánek\, CRR)\n\n  \n1. blok  \n\nAdam – Automatizovaný Digitální Asistent Monitorování (Iva Hrůzová\, MF\, na technické dotazy budou odpovídat zástupci EDIH CTU)\nANAKONDA – 1. AI nástroj v ČR na kontrolu dotací (Antonín Nešpor\, CRR)\nAI v justici (Roman Horáček\, Vrchní soud / CENDAI)\nŽádosti o poskytnutí informace dle zákona 106/99 (Jan Vorel\, ÚV)\nNasazení platformy pro AI pro krizové řízení ve veřejné správě (Ladislav Pecen\, HPE) \n\n  \n10:45-11:05 \nPřestávka          \n  \n11:05-12:10 \n2. blok \n\nImplementace AI aktu a role ČTÚ (Ivana Kudláčková\, ČTÚ)\nVyužití AI asistenta ve správním řízení (Kristián Malina\, MV)\nDORA (Miloš Šenkýř\, CRR)\nPříklady projektů ze školení úředníků 1 (Terezie Valová\, MŠMT)\nPříklady projektů ze školení úředníků 2 (Jiří Brych\, MF)\ndiskuse\n\n  \n12:10-12:45 \nZávěr   Elemenst of AI\, AI Awards\, databáze dodavatelů\, databáze use cases\, shrnutí (Lukáš Kačena\, prg.ai) \n  \n12:45-15:00     \nNetworking\, pohoštění \nProhlídka RICAIP Testbed Praha \n  \n  \nÚčast na akci je zcela zdarma\, je však nutné se registrovat prostřednictvím tohoto formuláře. Vaši registraci potvrdíme e-mailem. Uzávěrka registrací je 4. 11. 2025. Těšíme se na Vás! \n  \n 
URL:https://www.edihctu.eu/event/ai4gov-2025/
LOCATION:Český institut informatiky\, robotiky a kybernetiky\, ČVUT\, Jugoslávských partyzánů 1580/3\, Praha 6\, 16000
CATEGORIES:Dny AI,organizujeme,spoluorganizujeme,účastníme se
ATTACH;FMTTYPE=image/jpeg:https://www.edihctu.eu/wp-content/uploads/2025/10/AI4GOV-2025.jpg
END:VEVENT
BEGIN:VEVENT
DTSTART;TZID=Europe/Helsinki:20251103T180000
DTEND;TZID=Europe/Helsinki:20251103T223000
DTSTAMP:20260420T102909
CREATED:20251001T111740Z
LAST-MODIFIED:20251103T094800Z
UID:3231-1762192800-1762209000@www.edihctu.eu
SUMMARY:Under the Same Sky: Zahájení Dnů AI 2025 v Praze
DESCRIPTION:Kde se technologie\, umění a humanitní vědy setkávají pod jednou oblohou\n  \nUmělá inteligence není jen technologická záležitost – je to kulturní projekt\, který formuje naši společnou budoucnost. \n3. listopadu 2025 se v Planetáriu Praha koná zahájení Dnů AI 2025 – vlajková akce TAH – Centre for Innovations in Technology\, Art\, and Humanities. Pod největší LED kupolí v Evropě se sejde 250 osobností\, aby společně ukázaly\, proč musí být budoucnost AI formována interdisciplinárně. \n\n\nProč „Under the Same Sky“?\nVšichni žijeme pod stejnou oblohou – vědci\, umělci\, filozofové\, podnikatelé\, politici i občané. AI ovlivní všechny\, proto ji musíme utvářet s respektem. Planetárium s LED kupolí je dokonalý symbol této sdílené odpovědnosti za budoucnost. \n  \nProgram večera:\n18:00 – Příchod hostů a Future Gallery\nNetworking a prohlídka instalace. \n  \nKulturní program pod LED kupolí\nImerzní umělecké projekce spojující AI\, technologie a lidskou kreativitu: \n\n\n\nMarek Bulíř\, Kristýna Marková\, Jana Mýtinová\, Alexandra Verzier\nDesign and Digital Technologies Studio\, UMPRUM\nMicro / Macro Cosmos\nTři audiovizuální díla zkoumající pohyb mezi intimním měřítkem a kosmickým horizontem\, naše místo mezi pozemským a kosmickým optikou umělé inteligence.\n\n\n\n\n\n\nLenka Hámošová & Pavol Rusnák\nCreative AI Workflows / SatoshiLabs\nEchoes of Becoming\nMeditace o human-AI ko-kreaci\, kde každý signál\, který vypouštíme\, se vrací jako zrcadlo a ptá se nás\, abychom si pamatovali podstatu\, kterou žádný algoritmus nemůže nahradit.\n\n\n\n\n\n\nNataliya Grimberg\nHaute Future\nPlanet Fashion\nJeden oděv. Jeden svět. Imerzní cesta budoucího oděvu od mikroskopických vláken k planetárnímu dopadu.\n\n\n\n\n\n\nMichal Toporcer\nMirageset: Futures Gallery\nAI-generovaná prostředí\, která stírají hranice mezi fyzickou a digitální realitou. Vizuální průzkum toho\, jak může umělá inteligence vytvářet zcela nové estetické jazyky pro vyprávění příběhů.\n\n\n\n  \n19:00 – Slavnostní zahájení\nÚvodní slovo organizátorů a partnerů akce. \n  \n19:15 – Brno Planetarium & AI video \n  \n19:30 – Poezie v pohybu \n  \n19:45 – Projekce Mikro/Makrokosmos  \n  \n20:00 – Keynote + Q&A (30 min)\nProf. Jennifer Edmond (Trinity College Dublin)\n„Constellation Thinking: How Cultural Imagination Can Shape Our AI Future“ \nSystémy AI sice vytvářejí inženýři\, ale používají je lidé\, a prostřednictvím tohoto používání se propojují s naší kulturou. Co se však stane\, když tempo technologických změn začne předbíhat naše hodnoty\, přesvědčení a představivost? \n  \n20:35 – Přestávka \n  \n20:45 – Interview s hosty \n  \n20:55 – Projekce Ozvěny vzniku \n  \n21:00 – Panelová diskuse (40 min)\n„Constellation Acting: How technology\, art and humanities can solve our AI-driven challenges“ \n\n\n\nAdriana Dergam – Výbor pro technologie a lidská práva\nJak kulturní rámce a politické strategie zajistí\, že AI chrání lidská práva\n\n\n\n\n\n\nJan Školník – Centrum pro rozvoj charakteru\nCharakter a ctnosti jako předpoklady odpovědné AI\n\n\n\n\n\n\nLukáš Likavčan – Slovenská akademie věd\, zakládající člen TAH\nAI jako planetární infrastruktura a její dopad na kulturu a udržitelnost\n\n\n\nAlexandra Bízková – Pro Arte Investment Fund\nAI jako kulturní projekt: jak se inovace stávají součástí kultury\n\n\n\n\n  \n21:40 TAH – Interview \n  \n21:50 – Projekce TAH Avatars \n  \n22:00 – Závěrečné slovo\nSenátor Prof. Miroslav Bárta – Senát ČR\, Univerzita Karlova\nReflexe tématu „Under the Same Sky“ z perspektivy dlouhodobých civilizačních výzev. \n  \n22:30 – Networking & Reception\nNeformální setkání s účinkujícími\, partnery a ostatními hosty. \n  \nPraktické informace:\nDatum: 3. listopadu 2025 | 18:00-22:30\nMísto: Planetárium Praha\, Královská obora 233\, Praha 7\nDoprava: Tramvaje 6\, 17 → zastávka Výstaviště\nJazyk: Česky s AI tlumočením do angličtiny (real-time AI interpreting od ÚFAL MFF UK)\nVstup: Zdarma (nutná registrace\, kapacita omezena)\nDress code: Contemporary smart casual\nBezbariérový přístup: Ano \n  \nPro koho je akce určena:\n\nVýzkumníky a akademiky zajímající se o interdisciplinární přístupy\nTechnology leaders a inovátory v byznysu\nPolicy makers a zástupce veřejné správy\nUmělce a kreativce pracující s technologiemi\nKaždého\, kdo věří\, že AI musí být formována odpovědně\n\n  \nRegistrace: Registrujte se prosím na tomto odkazu.\nKontakt: adam.dvorak@tah-centre.org \n  \nO akci:\nZahájení Dnů AI 2025 je vlajková akce TAH – Centre for Innovations in Technology\, Art\, and Humanities\, spolku založeného v roce 2024 se sítí 48 signatářských organizací a více než 500 odborníků. TAH prosazuje interdisciplinární spolupráci jako klíč k odpovědnému technologickému rozvoji. \nAkce se koná jako součást celostátního festivalu Dny AI (3.-16. listopadu 2025) pod záštitou prezidenta republiky Petra Pavla s podporou Ministerstva průmyslu a obchodu a hlavního města Prahy. \n  \nPartneři akce:\nPlanetárium Praha\, prg.ai\, Cnaip\, Pražský inovační institut\, EDIH CTU\, UMPRUM\, Creative AI Workflows\, Haute Future\, Brainz Studios\, MirageSet\, MOUVO\,  MFF UK a další.\n  \nhttps://www.edihctu.eu/wp-content/uploads/2025/10/AI-days_Stories_video_music-1.mp4
URL:https://www.edihctu.eu/event/under-the-same-sky-zahajeni-dnu-ai-2025-v-praze/
LOCATION:Planetárium Praha\, Královská obora 233\, Praha 7\, Czech Republic
CATEGORIES:Dny AI,organizujeme,spoluorganizujeme,účastníme se
ATTACH;FMTTYPE=image/jpeg:https://www.edihctu.eu/wp-content/uploads/2025/10/Zahajeni-Dny-AI-2025.jpg
END:VEVENT
END:VCALENDAR