BEGIN:VCALENDAR
VERSION:2.0
PRODID:-//EDIH CTU - ECPv6.15.20//NONSGML v1.0//EN
CALSCALE:GREGORIAN
METHOD:PUBLISH
X-ORIGINAL-URL:https://www.edihctu.eu
X-WR-CALDESC:Akce na EDIH CTU
REFRESH-INTERVAL;VALUE=DURATION:PT1H
X-Robots-Tag:noindex
X-PUBLISHED-TTL:PT1H
BEGIN:VTIMEZONE
TZID:Europe/Helsinki
BEGIN:DAYLIGHT
TZOFFSETFROM:+0200
TZOFFSETTO:+0300
TZNAME:EEST
DTSTART:20240331T010000
END:DAYLIGHT
BEGIN:STANDARD
TZOFFSETFROM:+0300
TZOFFSETTO:+0200
TZNAME:EET
DTSTART:20241027T010000
END:STANDARD
BEGIN:DAYLIGHT
TZOFFSETFROM:+0200
TZOFFSETTO:+0300
TZNAME:EEST
DTSTART:20250330T010000
END:DAYLIGHT
BEGIN:STANDARD
TZOFFSETFROM:+0300
TZOFFSETTO:+0200
TZNAME:EET
DTSTART:20251026T010000
END:STANDARD
BEGIN:DAYLIGHT
TZOFFSETFROM:+0200
TZOFFSETTO:+0300
TZNAME:EEST
DTSTART:20260329T010000
END:DAYLIGHT
BEGIN:STANDARD
TZOFFSETFROM:+0300
TZOFFSETTO:+0200
TZNAME:EET
DTSTART:20261025T010000
END:STANDARD
END:VTIMEZONE
BEGIN:VEVENT
DTSTART;VALUE=DATE:20250930
DTEND;VALUE=DATE:20251002
DTSTAMP:20260420T054745
CREATED:20250806T194522Z
LAST-MODIFIED:20260217T180835Z
UID:2985-1759190400-1759363199@www.edihctu.eu
SUMMARY:SAPIE FORUM 2025
DESCRIPTION:EDIH CTU invites you to the SAPIE forum\, one of the leading events in the CEE region\, which annually celebrates the creative power of innovation and showcases the strength and potential of the local innovation ecosystem. \nIn its third year\, the Forum will once again focus on the most pressing issues and offer solutions to support governments and businesses on their digital transformation journey and help support investments in innovation in the region. \nThe 2025 Forum agenda will focus on key business and government topics\, including: \n\nEurope´s ambition to become a global innovation powerhouse\nAI Made in Europe – vision\, strategy\, action\nCurrent trends and latest developments in cybersecurity\nBuilding successful global deep-tech ventures from CEE\nAccelerating the business growth of European SMEs through implementation of new technologies\, including AI\n\nWe have chosen yet another spectacular location for the event! This year´s Forum will be held at the conference centre of the National Football Stadium. \nOnce again\, the two-day event will welcome 300 guests from governments\, businesses\, NGOs and civil society from our region and beyond.  \nDo not miss out on this year´s must-attend event and discover opportunities for growth\, efficiency and innovation! \nPROGRAMME:\nDAY 1 – Discussions on DAY 1 will be held in English\nTuesday 30th September \nBUILDING RESILIENT EUROPE \n\nShaping Tomorrow: The AI (R)evolution in Motion\nUntapped Potential: Can CEE Become the Next AI Frontrunner?\nThe latest trends and innovations in AI-powered cybersecurity\nBuilding a successful global deep-tech venture from CEE\n\nDAY 2 – Discussions on DAY 2 will be held in Slovak\nWednesday 1st October\nSTRENGTHENING SMEs AND ENTREPRENEURSHIP – IS YOUR COMPANY READY FOR THE FUTURE? \n\nAI Tools and Security: Challenges and Opportunities for Businesses\nHow to Resist Attackers: Next-Generation Social Engineering\nAccessing EU and National Funding for SMEs\nFostering a Culture of Innovation in Product Development\nFinancial Management and Cost Optimisation\nLeveraging new Tech & Driving Business Impact: How New Technologies Enhance Efficiency and Optimize Costs\n\nMore details about the event you can find here. Register here\, please!
URL:https://www.edihctu.eu/event/sapie-forum-2025/
CATEGORIES:spoluorganizujeme
ATTACH;FMTTYPE=image/png:https://www.edihctu.eu/wp-content/uploads/2025/08/SAPIE-FORUM-2025.png
END:VEVENT
BEGIN:VEVENT
DTSTART;TZID=Europe/Helsinki:20251014T100000
DTEND;TZID=Europe/Helsinki:20251014T150000
DTSTAMP:20260420T054745
CREATED:20250801T134938Z
LAST-MODIFIED:20251201T134831Z
UID:3512-1760436000-1760454000@www.edihctu.eu
SUMMARY:Česko-Slovenská konference rodinných firem
DESCRIPTION:SPolečně s konsorciálním partnerem EDIH CTU – Asociací malých a středních podniků a živnostníků – si Vás dovolujeme pozvat na mezinárodní konferenci s názvem \nJak trendy ovlivňují budoucnost rodinného podnikání a jak udržet rovnováhu v rodině i firmě\n\n\n\n\nDatum: 14. října 2025\, od 10:00 h\nMísto: Hotel DON GIOVANNI\, Vinohradská 2733/157a\, 130 00 Praha 3-Žižkov \n\nv blízkosti metra Želivského\,\nparkování v hotelu (hradí host)\,\nzvýhodněné ubytování pro zájemce se slevou 20 % (v případě potřeby kontaktujte sekretariát AMSP ČR)\n\n\n\n\n\n  \n\n\n\n\nProč se zúčastnit?\nObsahy přednášek se dotknou aktuálně nejdiskutovanějších témat\, např. neúspěšného předání rodinné firmy\, nástupnictví a vztahů mezi nástupnickou a předávající generací\, budoucnosti rodinných firem\, využití AI v rodinné firmě\, otázky bezpečnosti z pohledu expertů na kyberbezpečnosti či (ne)snadného přechodu na digitální účetnictví. Ukážeme\, jak se k rodinnému podnikání v souvislosti s trendy staví rodinné firmy v zahraničí. \nPodobně jako každý rok bude patřit úvod panelové diskusi na téma rodinné podnikání. Hosty přivítá garant projektu Rodinná firma v AMSP ČR\, pan Petr Milata\, generální ředitel společnosti Beznoska s.r.o.\, 3. generace v rodinné firmě. Experti na rodinné podnikání se střetnou nebo potkají v názorech na to\, jaké trendy dokážou pozitivně či negativně ovlivnit rodinné podnikání a osobní vztahy\, jak jsou firmy schopné reagovat na změny chtěné i nechtěné a jak se to promítne v generačním pohledu na podnikání. Slovenští partneři nám prozradí\, jaký efekt na Slovensku má ukotvení rodinného podnikání v zákoně a co by si představovali dále (daňové a další zvýhodnění pro rodinné firmy) – můžeme se zde inspirovat a požadovat po nové české vládě? \nAkce je určena všem majitelům malých i středních rodinných firem i jejich nástupníkům. \nPřijměte naše pozvání. \nREGISTRACE NA AKCI: ZDE \n  \n\n\n\n\n\n\n\nPROGRAM KONFERENCE\n\n9:30 – 10:00 \nRegistrace \n10:00 \nOficiální zahájení\, konferenci moderuje Petr Milata\, AMSP ČR \n10:00 – 11:00 \nPanelová diskuse \n\ndoc. Ing. Naděžda Petrů\, Ph.D. – expertka na rodinné podnikání\, vedoucí katedry ekonomie a managementu na Vysoké škole finanční a správní\nPavel Kolář – Wealth Advisor & Facilitator\, odborník na rodinné firmy\, Multi Family Office\nVladislav Nadberežný – nástupce rodinné firmy\, podnikatel a mentor v oblasti rodinného podnikání\nIng. Vladimír Sirotka\, CSc. – prezident SAMP (Slovenská asociácia malých a stredných podnikov a živnostníkov)\n\n11:00 – 11:30 \n1. přednáška: Tomáš Kratochvíl\, Key Account Manager.\, wflow – Rovnováha mezi tradicí a inovací \n11:30 – 12:00 \nCoffee break / snack bufet \n12:00 – 12:15 \n2. přednáška: Mgr. et Mgr. Kristýna Horne\, AMSP ČR – podpora rodinných firem pro životaschopnou a ekonomicky smysluplnou zelenou transformaci (jak to dělají rodinné firmy v zahraničí – představení projektu „SUFABU 2“) \n12:15 – 12:45 \n3. přednáška: David Pešek\, EDIH CTU –  AI a rodinné podnikání – jak můžou dnešní technologie pomoci malým rodinným firmám s rozjezdem\, optimalizací procesů a zvyšováním výkonnosti. \n12:45 – 13:10 \n4. přednáška: Tibor Szabó\, CEO inQool a.s. – Kyberobrana aneb jak efektivně čelit rizikům v podnikání \n13:10 – 14:10 \n5. přednáška: Markéta Trčková Peřestá\, AMSP ČR | EENCZ – Prezentace služeb poskytovaných MSP ze strany Enterprise Europe Network \n14:10 – 15:00 \nVolná diskuse na předchozí témata / networking \n15:00 \nUkončení akce
URL:https://www.edihctu.eu/event/cesko-slovenska-konference-rodinnych-firem/
LOCATION:Hotel Don Giovanni Prague\, Vinohradská 157a\, Praha\, 130 20
CATEGORIES:spoluorganizujeme,účastníme se
ATTACH;FMTTYPE=image/jpeg:https://www.edihctu.eu/wp-content/uploads/2025/12/C-S-konference-rodinnych-firem.jpg
END:VEVENT
END:VCALENDAR