BEGIN:VCALENDAR
VERSION:2.0
PRODID:-//EDIH CTU - ECPv6.15.20//NONSGML v1.0//EN
CALSCALE:GREGORIAN
METHOD:PUBLISH
X-WR-CALNAME:EDIH CTU
X-ORIGINAL-URL:https://www.edihctu.eu
X-WR-CALDESC:Akce na EDIH CTU
REFRESH-INTERVAL;VALUE=DURATION:PT1H
X-Robots-Tag:noindex
X-PUBLISHED-TTL:PT1H
BEGIN:VTIMEZONE
TZID:Europe/Helsinki
BEGIN:DAYLIGHT
TZOFFSETFROM:+0200
TZOFFSETTO:+0300
TZNAME:EEST
DTSTART:20230326T010000
END:DAYLIGHT
BEGIN:STANDARD
TZOFFSETFROM:+0300
TZOFFSETTO:+0200
TZNAME:EET
DTSTART:20231029T010000
END:STANDARD
BEGIN:DAYLIGHT
TZOFFSETFROM:+0200
TZOFFSETTO:+0300
TZNAME:EEST
DTSTART:20240331T010000
END:DAYLIGHT
BEGIN:STANDARD
TZOFFSETFROM:+0300
TZOFFSETTO:+0200
TZNAME:EET
DTSTART:20241027T010000
END:STANDARD
BEGIN:DAYLIGHT
TZOFFSETFROM:+0200
TZOFFSETTO:+0300
TZNAME:EEST
DTSTART:20250330T010000
END:DAYLIGHT
BEGIN:STANDARD
TZOFFSETFROM:+0300
TZOFFSETTO:+0200
TZNAME:EET
DTSTART:20251026T010000
END:STANDARD
END:VTIMEZONE
BEGIN:VEVENT
DTSTART;TZID=Europe/Helsinki:20241104T140000
DTEND;TZID=Europe/Helsinki:20241104T190000
DTSTAMP:20260420T175032
CREATED:20241022T123133Z
LAST-MODIFIED:20241105T084747Z
UID:2408-1730728800-1730746800@www.edihctu.eu
SUMMARY:Pomůže nám AI zachránit klima?
DESCRIPTION:Srdečně Vás zveme na česko-německou konferenci o potenciálu umělé inteligence pro ochranu klimatu a životního prostředí! \nAI vytváří příležitosti k propojení ekonomických a ekologických přístupů. Technologie založené na umělé inteligenci mají potenciál přispět k řešení environmentálních výzev díky schopnosti sbírat a efektivně zpracovávat velké množství dat. V rámci konference se představí řada inovativních projektů\, které využívají řešení založená na umělé inteligenci pro lepší ochranu klimatu\, zpřesnění předpovědí počasí\, posílení prevence přírodních katastrof\, optimalizaci procesů či snižování energetické náročnosti v průmyslu. \nO těchto otázkách chceme diskutovat na dalším Česko-německém klimatickém dialogu s předními experty z obou zemí. Konference se koná 4. listopadu 2024 v prostorách CIIRC ČVUT od 14:00 do 20:00 hod. \nSoučástí programu je i prohlídka RICAIP Testbedu pro Průmysl 4.0 v prostorách Českého institutu informatiky\, robotiky a kybernetiky při ČVUT v Praze. \nAkce se koná pod záštitou Petra Hladíka\, ministra životního prostředí ČR. \n  \nProgram akce:\n13:30-14:00   Registrace \n  \n14:00-14:20   Uvítání \nAndreas Künne\, velvyslanec Spolkové republiky Německo \nPetr Hladík\, ministr životního prostředí ČR \n  \n14:20-14:35   Úvod do tématu \nDr. Mark Azzam\, Spolkové ministerstvo životního prostředí\, ochrany přírody\, jaderné bezpečnosti a ochrany spotřebitele \nAI a co očekávat: od dat k moudrosti \n  \nUmělá inteligence a počasí: modely pro předpovídání extrémních jevů počasí\n14:40-15:00  Ludwig Robold\, starosta Ergoldsbachu\, Matthias Falk\, Spekter GmbH \nAI může zachránit životy – pilotní projekt Svobodného státu Bavorsko pro nový systém včasného varování před bouřkami a povodněmi v Ergoldsbachu v Bavorsku \n15:00-15:20  Jindřich Šťástka\, ČHMÚ \nStrojové učení při zpracování satelitních dat \n15:20-15:40  David Pešek\, EDIH CTU \nZkušenosti s AI řešeními pro zvládání změny klimatu \n15:40-16:00  Karel Charvát\, Plan4all \nRegionální akční plány s podporou AI \n16:00-16:15   Pódiová diskuse s přednášejícími \n16:15-16:30   Přestávka na kávu \n  \nUmělá inteligence a optimalizace energie a zdrojů\n16:30-16:50  Dr. Daniel Simon\, Spolkové ministerstvo životního prostředí\, ochrany přírody\, jaderné bezpečnosti a ochrany spotřebitele \nPřehodnocení správy životního prostředí – AI jako klíč k efektivní správě \n16:50-17:10  Ondřej Beránek\, AI Matters \nOvěřování a testování nových AI řešení: představení programu AI TEF a realizovaných projektů se zaměřením na klima  \nNabídka pro technologické poskytovatele a představení možné spolupráce s německými partnery \n17:10-17:30  Nissrin Arbesun Perez\, Fraunhofer IOSB-INA \nSmart-E-Factory \n17:30-17:50  Dr. Gunnar Schomaker\, Software Innovation Campus Paderborn \nUdržitelné digitální infrastruktury – datové centrum převaděčů energie \n17:50-18:20   Pódiová diskuse s přednášejícími \n18:20-20:00   Networking / recepce \n18:30-19:00   Návštěva Testbedu pro Průmysl 4.0 \n  \nZměna programu vyhrazena.\nKonference bude simultánně tlumočena čeština-němčina.
URL:https://www.edihctu.eu/event/pomuze-nam-ai-zachranit-klima/
LOCATION:Český institut informatiky\, robotiky a kybernetiky\, ČVUT\, Jugoslávských partyzánů 1580/3\, Praha 6\, 16000
CATEGORIES:spoluorganizujeme
ATTACH;FMTTYPE=image/png:https://www.edihctu.eu/wp-content/uploads/2024/10/Cesko-nemecka-akce-Klima-a-AI.png
END:VEVENT
BEGIN:VEVENT
DTSTART;TZID=Europe/Helsinki:20241016T160000
DTEND;TZID=Europe/Helsinki:20241016T200000
DTSTAMP:20260420T175032
CREATED:20241007T145328Z
LAST-MODIFIED:20241008T121725Z
UID:2344-1729094400-1729108800@www.edihctu.eu
SUMMARY:Young AI Research Forum
DESCRIPTION:Srdečně zveme mladé výzkumníky na akci Young AI Research Forum!  \nYoung AI Research Forum se snaží poskytnout zajímavou příležitost nejen doktorandům ML/AI a juniorským výzkumníkům\, ale také studentům bakalářských škol se zájmem o výzkumnou kariéru z různých českých akademických institucí\, aby se hlouběji ponořili do témat\, která jsou relevantní pro všechny. Ať už jde o rozvoj silné výzkumné značky \, spolupráci s průmyslem nebo řešení globálních výzev umocněných používáním technologií AI směrem k odpovědnému výzkumu AI.  \nAkce je součástí Dny AI (AI Days)\, které se konají po celé České republice a jejichž cílem je rozšířit obzory umělé inteligence v akademickém\, obchodním\, občanském sektoru a široké veřejnosti. \nCílem je vytvořit prostředí pro získávání praktického know-how \, sdílení zkušeností a navazování nových vztahů \, ale i otevírání obzorů a napomáhání kariérnímu a osobnímu rozvoji. \nToho bude dosaženo prostřednictvím několika odborných prezentací \, zprostředkovaných diskusí a vytváření sítí . Jeho cílem je také osvětlit jednotlivé výzkumné projekty a pomoci navazovat výzkumnou spolupráci . Účastníci jsou proto vyzýváni\, aby přinesli své stávající vědecké plakáty a zúčastnili se krátkých prezentací svého výzkumu. \n\nPředveďte svou práci : Prezentujte svůj výzkum nebo projekt využívající umělou inteligenci během naší prezentace a vystavení plakátů . Je to skvělá příležitost získat zpětnou vazbu a zdůraznit to\, na čem pracujete.\nAktivní účast : Převezměte aktivní roli tím\, že si vyberete témata k diskuzi a zapojíte se s ostatními. Toto je vaše událost\, kterou můžete formovat a přispívat k ní.\nNetwork and Learn : Spojte se s kolegy a profesionály v oblasti AI a vyměňte si nápady\, získejte praktické rady a také sdílejte zkušenosti a různé perspektivy\, které vám pomohou růst ve vašem oboru.\n\nKdo by se měl zúčastnit?\n\n\nVysokoškolští studenti se zájmem o výzkumnou kariéru\nDoktorandi a postdoktorandi z technických univerzit v Praze i mimo ni\nVýzkumní pracovníci v rané fázi z akademických týmů\nMladí výzkumníci z technologických společností a start-upů\n\nCo můžete očekávat?\n\nNeformální diskuse v uvolněném prostředí\nOtevřené a příjemné prostředí\nBleskové rozhovory a rychlé návrhy nápadů\nPříležitosti pro vytváření sítí\, které by mohly podnítit budoucí spolupráci\nŘada inspirativních témat\, která vám pomohou posunout vaši kariéru\nInteraktivní\, inkluzivní a spoluvytvářený obsah\n\n\n\nJaké výzkumné oblasti jsou vítány?\nVítáme výzkumníky ze všech oblastí\, ale akce je speciálně zaměřena na ty\, kteří pracují v oblastech souvisejících s AI\, jako jsou: \n\nStrojové učení\nZpracování řeči a přirozeného jazyka\nPočítačové vidění\nUvažování\nRobotika\nKognitivní výpočetní technika\nPosílení učení\nMulti-Agent Systems & Agent-Based Modeling\nPlánování\, směrování a plánování\nEtické\, právní a sociální aspekty AI\n…a další!\n\n\nCo je na programu?\nZde je to\, co můžete očekávat – dva poutavé hlavní řečníky\, prezentace a plakáty (vaše nebo od vašich kolegů) a interaktivní diskuse u kulatého stolu\, kde si můžete vybrat témata . Dostanete také příležitost zazářit s pitching session a vystavením plakátů . Navíc zde bude spousta příležitostí pro networking a výměnu znalostí. Je to všechno o sdílení nápadů\, předvádění své práce a spojení s rostoucí komunitou AI. \n\nLenka Kučerová z prg.ai bude akci moderovat a provede vás celým odpolednem\, udrží věci v pohybu a zajistí hladký průběh akce. \n\n\n\n  \n15:30 Registrace \n\n\n\n16:00 Zahájení a uvítací řeč\n\n\n16:05 Hlavní řečník č. 1\n\n\n16:30 Pitching sessions \n\n\n17:30 Hlavní řečník č. 2\n\n\n18:00 World Café (Diskutujte u kulatých stolů)\n\n\n19:30 Networking\n\n\n\n20:00 Zavírání \n\n\n\n\nWorld Café (Diskuse u kulatých stolů) Témata: Pojďme mluvit o AI\nJste připraveni na skutečné rozhovory? Na naší relaci World Café budete mít příležitost usednout ke kulatému stolu a ponořit se do diskusí o tématech\, na kterých v AI záleží. Je to všechno o výměně nápadů\, poslechu různých úhlů pohledu a brainstormingu s ostatními nadšenci AI. \n\nJak to funguje\nPřed akcí shromáždíme vaše preference z registračního formuláře a vybereme pět nejoblíbenějších témat. V ten den se budete moci připojit ke dvěma kulatým stolům dle vlastního výběru. Posaďte se\, dokonce i kávu\, pokud chcete\, a připravte se na chat a spojení. \n\nVybraná diskusní témata\n\n\n\nDopady umělé inteligence na globální výzvy: změna klimatu a společnost\, zkoumání společenských dopadů umělé inteligence\, včetně vytěsnění pracovních míst\, soukromí\, dohledu.\n\nModerátor: Marek Miltner\n\n\nVysvětlitelná umělá inteligence:  Interpretovatelnost vs. Vysvětlitelnost\, Transparentnost v modelech umělé inteligence\, Zmírňování předsudků v umělé inteligenci\, Spolupráce mezi lidmi a umělou inteligencí\, Vysvětlitelná umělá inteligence a regulace\, Podpora kultury vysvětlitelnosti ve výzkumné komunitě umělé inteligence.\n\nModerátor: Martin Krutský\n\n\nSpolupráce mezi akademickým světem a průmyslem: vzájemné výhody\, duševní vlastnictví\, komunikace\, užitečnost výzkumu pro podnikání\, výhody a nevýhody pobytu na akademické půdě a výzkumné kariéry založené na umělé inteligenci.\n\n\n\n\nMaximalizace stáže v zahraničí: Nalezení vhodné stáže\, Stanovení cílů a očekávání:\, Budování profesionálních vztahů\, Maximalizace vzdělávacích příležitostí\, Kulturní ponoření:\, Reflexe očekávání od supervizora/internovaného po stáži\, Jak oslovit nejlepší přední výzkumníky\, aby získali pozici Týmy\, Jak nastavit cíle\, Networking\, Kulturní ponoření\, Učení\, Zpětná vazba.\nKariérní cesty mimo akademickou sféru: průmysl\, překládání dovedností\, vytváření sítí.\n\nModerátor: Alexandra Helánová\n\n\n\n\n\n\nRegistrujte se zde \n \n\nAkci pro Vás připravili\n       \n         
URL:https://www.edihctu.eu/event/young-ai-research-forum/
LOCATION:Český institut informatiky\, robotiky a kybernetiky\, ČVUT\, Jugoslávských partyzánů 1580/3\, Praha 6\, 16000
CATEGORIES:spoluorganizujeme
ATTACH;FMTTYPE=image/png:https://www.edihctu.eu/wp-content/uploads/2024/10/invitation-2-1280x720-1.png
END:VEVENT
END:VCALENDAR