BEGIN:VCALENDAR
VERSION:2.0
PRODID:-//EDIH CTU - ECPv6.15.20//NONSGML v1.0//EN
CALSCALE:GREGORIAN
METHOD:PUBLISH
X-WR-CALNAME:EDIH CTU
X-ORIGINAL-URL:https://www.edihctu.eu
X-WR-CALDESC:Akce na EDIH CTU
REFRESH-INTERVAL;VALUE=DURATION:PT1H
X-Robots-Tag:noindex
X-PUBLISHED-TTL:PT1H
BEGIN:VTIMEZONE
TZID:Europe/Helsinki
BEGIN:DAYLIGHT
TZOFFSETFROM:+0200
TZOFFSETTO:+0300
TZNAME:EEST
DTSTART:20220327T010000
END:DAYLIGHT
BEGIN:STANDARD
TZOFFSETFROM:+0300
TZOFFSETTO:+0200
TZNAME:EET
DTSTART:20221030T010000
END:STANDARD
BEGIN:DAYLIGHT
TZOFFSETFROM:+0200
TZOFFSETTO:+0300
TZNAME:EEST
DTSTART:20230326T010000
END:DAYLIGHT
BEGIN:STANDARD
TZOFFSETFROM:+0300
TZOFFSETTO:+0200
TZNAME:EET
DTSTART:20231029T010000
END:STANDARD
BEGIN:DAYLIGHT
TZOFFSETFROM:+0200
TZOFFSETTO:+0300
TZNAME:EEST
DTSTART:20240331T010000
END:DAYLIGHT
BEGIN:STANDARD
TZOFFSETFROM:+0300
TZOFFSETTO:+0200
TZNAME:EET
DTSTART:20241027T010000
END:STANDARD
BEGIN:DAYLIGHT
TZOFFSETFROM:+0200
TZOFFSETTO:+0300
TZNAME:EEST
DTSTART:20250330T010000
END:DAYLIGHT
BEGIN:STANDARD
TZOFFSETFROM:+0300
TZOFFSETTO:+0200
TZNAME:EET
DTSTART:20251026T010000
END:STANDARD
END:VTIMEZONE
BEGIN:VEVENT
DTSTART;TZID=Europe/Helsinki:20240118T090000
DTEND;TZID=Europe/Helsinki:20240119T170000
DTSTAMP:20260420T064714
CREATED:20231219T143419Z
LAST-MODIFIED:20231219T143421Z
UID:1865-1705568400-1705683600@www.edihctu.eu
SUMMARY:Human Centric AI for accelerated digital transformation
DESCRIPTION:Informative workshops and targeted meetings\nA matchmaking event to bring together companies\, European Digital Innovation Hubs and research centres from many European countries. This is a unique opportunity to generate new business contacts\, to find technological and R&D partners. \nMeetings will take place in Brussels and online. The meetings will be arranged in advance through a platform. \nOnline and onsite participation to the info sessions will be restricted to participants active with the BtoB meetings. \n  \nWhy Attend?\n\nNetworking Opportunities: Connect with business\, technological and R&D potential partners. Meet with AI experts who share your passion for leveraging artificial intelligence for the common good.\nGlobal Insights: Gain valuable insights into the latest trends\, breakthroughs\, and opportunities in the AI for Good ecosystem.\nCutting-Edge Technology: Explore innovative AI solutions\, products\, and services that can drive positive change in areas such as healthcare\, education\, mobility\, sustainability\, and more.\nCollaborative Partnerships: Discover potential partners\, collaborators\, and investors to help you boost your AI for Good projects.\n\nWho should participate?\n\nAI Solutions providers ​\nEntities looking for technological and R&D partners​ specialised in AI\nEuropean research centres\nEntities willing to apply to EU funding opportunities\, especially under Horizon Europe​\nCompanies willing to learn more about AI opportunities or to adopt AI solutions ​\nEuropean Digital Innovation Hubs: advanced support for digitalisation. This is also an incubation opportunity in the EDIH network\n\nHow can you benefit from this event?\n\nPublish and showcase your products\, projects\, services or business needs to event participants\nInitiate and arrange promising pre-scheduled meetings at the event\nGenerate fresh leads and meet new contacts in a time and cost-efficient way\nStay one step ahead of your competitors by being seen and visibly present at the event\n\nThis event is free of charge but registration is subject to approval by the organisers (cf terms & conditions). \nThe draft agenda is available here.
URL:https://www.edihctu.eu/event/human-centric-ai-for-accelerated-digital-transformation/
LOCATION:BeCentral – sustAIn.brussels\, Cantersteen 12\,\, Bruxelles\, 1000\, Belgie
ATTACH;FMTTYPE=image/png:https://www.edihctu.eu/wp-content/uploads/2023/12/Human-Centric-AI-for-accelerated-digital-transformation.png
END:VEVENT
BEGIN:VEVENT
DTSTART;TZID=Europe/Helsinki:20231218T120000
DTEND;TZID=Europe/Helsinki:20231218T130000
DTSTAMP:20260420T064714
CREATED:20231130T171311Z
LAST-MODIFIED:20231130T171312Z
UID:1851-1702900800-1702904400@www.edihctu.eu
SUMMARY:AQuA - EDIH x CLAIRE best practices “Sustainable AI”
DESCRIPTION:Inspired by Turing Award winner Donald E. Knuth’s All Questions Answered lecture\, CLAIRE All Questions Answered Events (AQuAs) are relaxed\, 1 hour\, online events that bring together a small group of panelists to discuss current hot topics in AI and beyond and answer questions from the community. \nThe focus of the CLAIRE x EDIH AQuA session on sustainable AI is to explore the strategies employed by European Digital Innovation Hubs in addressing green deal issues. This involves the incorporation of sustainability considerations into services designed to assist organizations and companies grappling with digital transformations. \nIn addition\, the webinar will discuss the influence of AI\, data\, and robotics technologies on sustainability matters\, emphasizing their potential contribution to achieving sustainable development goals. \nDuring the session\, the panellists will impart insights into their experiences and share best practices related to integrating sustainability into the development and deployment processes of their services. This encompasses various aspects from policy to innovation workshops\, during training or when providing access to test infrastructures and developing financial services. \nCo-organised by CLAIRE | Brussels\, Paris and Prague and EDIHs: SustAIn.brussels\, EDIH CTU\, EDIH Saarland & Dihnamic.
URL:https://www.edihctu.eu/event/aqua-edih-x-claire-best-practices-sustainable-ai/
ATTACH;FMTTYPE=image/png:https://www.edihctu.eu/wp-content/uploads/2023/11/CLAIRE-AQuA-231218.png
END:VEVENT
BEGIN:VEVENT
DTSTART;TZID=Europe/Helsinki:20231121T180000
DTEND;TZID=Europe/Helsinki:20231121T220000
DTSTAMP:20260420T064714
CREATED:20231106T101428Z
LAST-MODIFIED:20231106T101306Z
UID:1800-1700589600-1700604000@www.edihctu.eu
SUMMARY:Inovační firma Zlínského kraje
DESCRIPTION:Osmý ročník soutěže o neúspěšnější podnikatelský subjekt ve Zlínském regionu\, kterého se zúčastní také zástupci EDIH CTU. Cílem soutěže je ocenit a oslavit úspěchy firem\, které se ukázaly jako lídři v oblasti inovací ve Zlínském kraji a jejichž vynikající postupy a úspěchy v oblasti inovací mohou být inspirací pro všechny. \n  \nNávrh programu (změna vyhrazena): \n18:00-18:30     úvod\, zdravice\, přivítání hostů\, rekapitulace posledního ročníku\, představení zúčastněných firem \n18:30-18:40     předání ocenění České spořitelny \n18:40-18:50    úvod k EDIHům\, 1. prezentace EDIH CYBERSECURITY INNOVATION HUB\, Tomáš Pitner \n18:50-19:05     předání prvního uznání (za třetí místo) \n19:05-19:15    2. prezentace EDIH CTU\, David Pešek \n19:15-19:35     přestávka\, coffee break \n19:35-19:48     předání 2. čestného uznání (za druhé místo) \n19:48-20:00    3. prezentace EDIH DIGIMAT\, Radomír Zbožínek \n20:00-20:15     předání ceny CREATED IN ZLIN \n20:15-20:23    4. prezentace EDIH Ostrava\, Tomáš Moravec nebo Martin Jurek \n20:23-20:28      zdravice TIC\, Lukáš Trčka \n20:28-20:45     předání první ceny \n20:45-22:00    networking\, ukončení akce
URL:https://www.edihctu.eu/event/inovacni-firma-zlinskeho-kraje/
LOCATION:Hotel Baltaci Atrium Zlín\, Lešetín II 651\, Zlín\, 760 01
ATTACH;FMTTYPE=image/png:https://www.edihctu.eu/wp-content/uploads/2023/11/Inovacni-firma-Zlinskeho-kraje.png
END:VEVENT
BEGIN:VEVENT
DTSTART;TZID=Europe/Helsinki:20231109T090000
DTEND;TZID=Europe/Helsinki:20231109T170000
DTSTAMP:20260420T064714
CREATED:20231108T203823Z
LAST-MODIFIED:20231108T203746Z
UID:1813-1699520400-1699549200@www.edihctu.eu
SUMMARY:7. podnikatelské fórum Ústeckého kraje
DESCRIPTION:Přijďte si poslechnout informace o službách EDIH CTU\, které v bloku „Digitalizace“ přestaví inovační manažer EDIH CTU David Pešek.
URL:https://www.edihctu.eu/event/7-podnikatelske-forum-usteckeho-kraje/
LOCATION:Univerzita Jana Evangelisty Purkyně v Ústí nad Labem\, Pasteurova 3544/1\, Ústí nad Labem-město\, 400 96
ATTACH;FMTTYPE=image/png:https://www.edihctu.eu/wp-content/uploads/2023/11/7.-podnikatelske-forum-UK.png
END:VEVENT
BEGIN:VEVENT
DTSTART;TZID=Europe/Helsinki:20231108T090000
DTEND;TZID=Europe/Helsinki:20231108T150000
DTSTAMP:20260420T064714
CREATED:20231106T095351Z
LAST-MODIFIED:20231106T095333Z
UID:1796-1699434000-1699455600@www.edihctu.eu
SUMMARY:EDIH Twister Vol. IV (Česko - Polsko)
DESCRIPTION:Dne 8. listopadu 2023 se zástupci EDIH CTU zúčastní již čtvrté networkingové akce s názvem EDIH Twister Vol. IV.  \nČesko-polská informační\, kontaktní a networkingová akce s představením služeb Evropských center pro digitální inovace (EDIH) a jejich partnerů na podporu digitální transformace malých a středních firem v česko-polském příhraničí proběhne v prostorách Národního superpočítačového centra IT4Innovations na VŠB-TUO.
URL:https://www.edihctu.eu/event/edih-twister-vol-iv-cesko-polsko/
LOCATION:Národní superpočítačové centrum IT4Innovations VŠB-TUO\, Studentská 6231/1b\, Ostrava\, Česká republika
ATTACH;FMTTYPE=image/png:https://www.edihctu.eu/wp-content/uploads/2023/11/edih-twister-cz-pl_ostrava_08-11-2023_banner.png
END:VEVENT
BEGIN:VEVENT
DTSTART;TZID=Europe/Helsinki:20231101T090000
DTEND;TZID=Europe/Helsinki:20231101T143000
DTSTAMP:20260420T064714
CREATED:20230912T120432Z
LAST-MODIFIED:20230912T120432Z
UID:1299-1698829200-1698849000@www.edihctu.eu
SUMMARY:Dny AI 2023
DESCRIPTION:  \nZveme Vás na workshop zaměřený na střední a vyšší management veřejné správy (ministerstva\, ústřední orgány státní správy\, kraje\, města)\, jehož cílem je představit zajímavé příklady využití umělé inteligence (AI) ve veřejné správě. Seznámíme Vás s možnostmi a postupy zavádění AI do Vaší praxe\, nabídneme Vám inspiraci ze zahraničí\, popíšeme Vám možná rizika a omezení\, dozvíte se více o nabídce vzdělávání a financování a řadu dalších zajímavých informací. Součástí akce je také networking a sdílení dobré praxe. \n\nNeváhejte využít možnost prohlídnout si nejnovější infrastrukturu a špičkové technologie v experimentální laboratoři RICAIP Testbedu pro Průmysl 4.0 na CIIRC ČVUT. Dozvíte se o nových inovativních řešeních pro pokročilou průmyslovou výrobu v oblasti robotiky\, flexibilní výroby a výrobních technologií. 3D tisk\, digitální dvojče\, inteligentní robotické buňky\, automatizace a sběr dat v reálné praxi\, hybridní robotické obrábění a další ukázky – to vše a mnohem více na dvou podlažích testbedu s plochou přes 1400 m2. \nVyužijte příležitost dozvědět se více o možnostech spolupráce v oblasti výzkumu a vývoje a zavádění inovací pro moderní továrny 21. století.  \n  \nProgram (bude doplněno) \n09:00-09:10 Zahájení\, úvodní slovo nejvyššího státního tajemníka Jindřicha Fryče \n09:10-10:30 Případové studie\, příklady dobré praxe (EDIH CTU\, MPSV\, MZdr\, zkušenosti ze zahraničí aj.) \nZáznam první části akce je k dispozici zde. \n  \n10:30-10:45 Přestávka \n  \n10:45-11:30 Panelová diskuse \n11:30-12:30 Národní strategie AI\, ChatGPT a veřejná správa\, možnosti vzdělávání vč. diskuse \n12:30-13:30 Oběd a networking \n\n\nZáznam druhé části akce je k dispozici zde. \n  \n\n\n13:30-14:30 Prohlídka obou pater RICAIP Testbedu pro Průmysl 4.0 při CIIRC ČVUT \n  \nREGISTRACE: \nÚčast na akci je zdarma.\nPro přihlášení na workshop prosím využijte tento formulář. Termín uzávěrky přihlášek je 27. října 2023. Kapacita workshopu je omezená\, Vaši registraci potvrdíme e-mailem. \n\n\n \n      \n \n  \n 
URL:https://www.edihctu.eu/event/dny-ai-2023/
LOCATION:Český institut informatiky\, robotiky a kybernetiky\, ČVUT\, Jugoslávských partyzánů 1580/3\, Praha 6\, 16000
ATTACH;FMTTYPE=image/png:https://www.edihctu.eu/wp-content/uploads/2023/09/Dny-AI.png
END:VEVENT
BEGIN:VEVENT
DTSTART;TZID=Europe/Helsinki:20231031T090000
DTEND;TZID=Europe/Helsinki:20231031T150000
DTSTAMP:20260420T064714
CREATED:20231010T081725Z
LAST-MODIFIED:20231010T081652Z
UID:1551-1698742800-1698764400@www.edihctu.eu
SUMMARY:Smart Business Festival
DESCRIPTION:Smart Business Festival CZ je informační\, prezentační\, kontaktní a networkingová akce zaměřená na sdílení novinek o projektech a aktivitách na podporu rozvoje digitální ekonomiky a společnosti a nové technologické i byznysové přístupy v podnikání českých malých a středních firem. \nV rámci letošního programu budou detailněji představeny služby Evropských center pro digitální inovace (EDIH) v České republice i okolních zemích. EDIH CTU na akci představí své technologie a praktické zkušenosti z transferu technologií do praxe. \nSoučástí programu bude i výstavní část.
URL:https://www.edihctu.eu/event/smart-business-festival/
LOCATION:Hotel Artemis Praha\, U Sluncové 14\, Praha 8\, 186 76
ATTACH;FMTTYPE=image/png:https://www.edihctu.eu/wp-content/uploads/2023/10/Smart-Business-Festival2.png
END:VEVENT
BEGIN:VEVENT
DTSTART;VALUE=DATE:20231024
DTEND;VALUE=DATE:20231026
DTSTAMP:20260420T064714
CREATED:20230911T142359Z
LAST-MODIFIED:20230911T205358Z
UID:1253-1698105600-1698278399@www.edihctu.eu
SUMMARY:LIFMAT 2023
DESCRIPTION:Zveme vás na unikátní konferenci LIFMAT\, která propojuje odborníky i širokou veřejnost ve světě digitálních technologií\, inovací a řízení životního stylu. Můžete se těšit na dva dny nabité přednáškami\, workshopy\, interaktivní výstavou\, hackatonem\, odborným speed datingem a dalším zajímavým programem. \nEDIH CTU zde představí své služby spojené s AI technologiemi ve zdravotnictví. Těšíme se na Vás!
URL:https://www.edihctu.eu/event/lifmat-2023/
LOCATION:Cubex Centrum Praha spol. s r. o.\, Na Strži 2097/63\, Praha 4-Nusle\, 140 00
ATTACH;FMTTYPE=image/png:https://www.edihctu.eu/wp-content/uploads/2023/09/LIFMAT-2023.png
ORGANIZER;CN="MagicWare%2C s.r.o.":MAILTO:info@lifmat.cz
END:VEVENT
BEGIN:VEVENT
DTSTART;TZID=Europe/Helsinki:20231017T133000
DTEND;TZID=Europe/Helsinki:20231017T180000
DTSTAMP:20260420T064714
CREATED:20230921T073351Z
LAST-MODIFIED:20231010T075537Z
UID:1364-1697549400-1697565600@www.edihctu.eu
SUMMARY:AI Happy Hours
DESCRIPTION:Společně s kolegy z projektu DIH4AI\, Českého institutu informatiky\, robotiky a kybernetiky při Českém vysokém učení technickém (CIIRC ČVUT)\, Národního centra Průmyslu 4.0 a projektu AI Matters Vás srdečně zveme na neformální setkání zástupců malých a středních firem\, během něhož Vás chceme seznámit s nabídkou AI řešení vhodných pro Vaši firmu a s možnostmi\, jak získat finance na jejich získání mj. i pomocí našeho EDIH CTU.  \nPozvaní experti Vás provedou světem technologií\, seznámí Vás s možnostmi financování a ukáží Vám konkrétní příklady AI řešení a služeb\, které již byly uvedeny do praxe. Přijďte si poslechnout i naše „Success Stories“! \nProgram\n13:30 – 14:00 Registrace \n14:00 – 14:15 Uvítání \n14:15 – 14:25 Posuzování výrobních podniků a jejich business plánů; Alena Burešová\, Národní centrum Průmyslu 4.0 \n14:25 – 15:15 AI technologie ve výrobě \n\nDatová analýza a process mining v průmyslových výrobních systémech; Petr Novák\, CIIRC ČVUT\nUmělá inteligence pro monitorování výrobních procesů; Martin Macaš\, CIIRC ČVUT\nSemantics for Production Feasibility; Václav Jirkovský\, CIIRC ČVUT\nSimulace a digitální dvojčata pro průmyslové výrobní systémy; Petr Novák\, CIIRC ČVUT\n\n15:30 – 16:00 Financování digitalizace firem \n\nNová cesta pro AI inovace – projekt AI Matters; Petr Kadera\, CIIRC CTU\nEvropské centrum pro digitální inovace; Jaroslav Lískovec\, EDIH CTU\n\n16:00 – 16:30 Success Stories  \n\nSW senzory na bázi umělé inteligence; Boris Fačkovec\, InovecTech\nPříklady dobré praxe; David Pešek\, EDIH CTU\n\n16:30 – 18:00 Networking v robobaru \nRegistrační formulář naleznete na https://www.ciirc.cvut.cz/cs/events/ai-happy-hours/. Těšíme se na Vás! \n 
URL:https://www.edihctu.eu/event/ai-happy-hours/
LOCATION:Český institut informatiky\, robotiky a kybernetiky\, ČVUT\, Jugoslávských partyzánů 1580/3\, Praha 6\, 16000
ATTACH;FMTTYPE=image/png:https://www.edihctu.eu/wp-content/uploads/2023/09/AI-Happy-Hours-LinkedIn.png
END:VEVENT
BEGIN:VEVENT
DTSTART;TZID=Europe/Helsinki:20231017T100000
DTEND;TZID=Europe/Helsinki:20231017T130000
DTSTAMP:20260420T064714
CREATED:20230925T141258Z
LAST-MODIFIED:20230925T140640Z
UID:1388-1697536800-1697547600@www.edihctu.eu
SUMMARY:Kariérní veletrh COFIT
DESCRIPTION:
URL:https://www.edihctu.eu/event/karierni-veletrh-cofit/
LOCATION:Fakulta informačních technologií ČVUT v Praze\, Thákurova 9\, Praha 6\, 16000
ATTACH;FMTTYPE=image/png:https://www.edihctu.eu/wp-content/uploads/2023/09/COFIT.png
END:VEVENT
BEGIN:VEVENT
DTSTART;TZID=Europe/Helsinki:20231012T130000
DTEND;TZID=Europe/Helsinki:20231012T140000
DTSTAMP:20260420T064714
CREATED:20231006T144303Z
LAST-MODIFIED:20231006T143914Z
UID:1488-1697115600-1697119200@www.edihctu.eu
SUMMARY:Mezinárodní strojírenský veletrh Brno
DESCRIPTION:Víte o tom\, že Česká republika podporuje digitalizaci mj. i prostřednictvím tzv. Evropských center pro digitální inovace (EDIH\, z angl. European Digital Innovation Hub). Společně s Evropskou komisí spolufinancuje na území ČR 6 center.  \nO úkolech EDIHů\, jejich specializacích\, službách a možnostech financování pro malé a střední podniky a veřejnou správu budou diskutovat a informovat zástupci vybraných EDIHů v rámci tématu Nové příležitosti a nástroje pro rozvoj inovačního cyklu firmy na Mezinárodním strojírenském veletrhu v Brně. \n 
URL:https://www.edihctu.eu/event/mezinarodni-strojirensky-veletrh-brno/
ATTACH;FMTTYPE=image/png:https://www.edihctu.eu/wp-content/uploads/2023/10/MSV-Brno-2023.png
END:VEVENT
BEGIN:VEVENT
DTSTART;TZID=Europe/Helsinki:20231006T170000
DTEND;TZID=Europe/Helsinki:20231006T220000
DTSTAMP:20260420T064714
CREATED:20230912T121144Z
LAST-MODIFIED:20230912T121144Z
UID:1303-1696611600-1696629600@www.edihctu.eu
SUMMARY:Noc vědců 2023
DESCRIPTION:Chcete se dozvědět \n\nJak EDIH CTU pomáhá transferu AI technologií do praxe?\nJak mohou malé a střední podniky a veřejná správa využít naše služby?\nJaké technologie již máme „v šuplíku“ a jak to může pomoci zrovna Vaší společnosti?\nCo je to vlastně „testování před vlastní investicí“ a jak získat finance na to\, abyste aplikovali naše AI technologie v praxi?\nJaká školení v oblasti AI Vám můžeme nabídnout?\n\nNavštivte náš stánek během Noci vědců dne 6. října 2023 od 17:00\, poodhalíme Vám tajemství našeho EDIH CTU\, těšíme se na Vás v budově Českého institutu informatiky\, robotiky a kybernetiky!
URL:https://www.edihctu.eu/event/noc-vedcu-2023/
LOCATION:Český institut informatiky\, robotiky a kybernetiky\, ČVUT\, Jugoslávských partyzánů 1580/3\, Praha 6\, 16000
ATTACH;FMTTYPE=image/png:https://www.edihctu.eu/wp-content/uploads/2023/09/Noc-vedcu.png
END:VEVENT
BEGIN:VEVENT
DTSTART;TZID=Europe/Helsinki:20230921T083000
DTEND;TZID=Europe/Helsinki:20230921T143000
DTSTAMP:20260420T064714
CREATED:20230911T082611Z
LAST-MODIFIED:20230911T140927Z
UID:1227-1695285000-1695306600@www.edihctu.eu
SUMMARY:EDIH Twister Vol. III
DESCRIPTION:Česko-německá informační\, kontaktní a networkingová akce s představením služeb Evropských center pro digitální inovace (EDIH) a jejich partnerů na podporu digitální transformace malých a středních firem v česko-německém příhraničí. \nRegistrace a program akce: https://czechinno.cz/edih/edih-twister/
URL:https://www.edihctu.eu/event/edih-twister-vol-iii/
LOCATION:Inovační centrum Ústeckého kraje\, Velká Hradební 2800\, Ústí nad Labem
ATTACH;FMTTYPE=image/png:https://www.edihctu.eu/wp-content/uploads/2023/09/EDIH-Twister-Vol.-III.png
END:VEVENT
END:VCALENDAR