BEGIN:VCALENDAR
VERSION:2.0
PRODID:-//EDIH CTU - ECPv6.15.20//NONSGML v1.0//EN
CALSCALE:GREGORIAN
METHOD:PUBLISH
X-WR-CALNAME:EDIH CTU
X-ORIGINAL-URL:https://www.edihctu.eu
X-WR-CALDESC:Akce na EDIH CTU
REFRESH-INTERVAL;VALUE=DURATION:PT1H
X-Robots-Tag:noindex
X-PUBLISHED-TTL:PT1H
BEGIN:VTIMEZONE
TZID:Europe/Helsinki
BEGIN:DAYLIGHT
TZOFFSETFROM:+0200
TZOFFSETTO:+0300
TZNAME:EEST
DTSTART:20240331T010000
END:DAYLIGHT
BEGIN:STANDARD
TZOFFSETFROM:+0300
TZOFFSETTO:+0200
TZNAME:EET
DTSTART:20241027T010000
END:STANDARD
BEGIN:DAYLIGHT
TZOFFSETFROM:+0200
TZOFFSETTO:+0300
TZNAME:EEST
DTSTART:20250330T010000
END:DAYLIGHT
BEGIN:STANDARD
TZOFFSETFROM:+0300
TZOFFSETTO:+0200
TZNAME:EET
DTSTART:20251026T010000
END:STANDARD
BEGIN:DAYLIGHT
TZOFFSETFROM:+0200
TZOFFSETTO:+0300
TZNAME:EEST
DTSTART:20260329T010000
END:DAYLIGHT
BEGIN:STANDARD
TZOFFSETFROM:+0300
TZOFFSETTO:+0200
TZNAME:EET
DTSTART:20261025T010000
END:STANDARD
END:VTIMEZONE
BEGIN:VEVENT
DTSTART;TZID=Europe/Helsinki:20251110T083000
DTEND;TZID=Europe/Helsinki:20251110T110000
DTSTAMP:20260420T085102
CREATED:20251024T203344Z
LAST-MODIFIED:20251024T203747Z
UID:3387-1762763400-1762772400@www.edihctu.eu
SUMMARY:AI for industry – Budoucnost začíná dnes
DESCRIPTION:AI for industry – Budoucnost začíná dnes\n\n  \nObjevte\, jak AI transformuje firemní procesy – od HR\, přes obchod až po technologie! Přijďte se inspirovat reálnými příklady\, vyzkoušejte si AI agenty naživo a získejte strategickou výhodu pro svou firmu. \nZveme vás na konferenci zaměřenou na praktické využití umělé inteligence v průmyslových podnicích. Akce propojí zkušenosti firem ADEON CZ\, TIC Zlín\, TD SYNNEX\, EDIH CTU a HPE\, které představí konkrétní řešení a přístupy k implementaci AI ve výrobním prostředí. \nTémata konference:\n\nMicrosoft Copilot – praktické využití AI asistenta v každodenní práci\nTvorba AI agentů – jak automatizovat procesy pomocí inteligentních nástrojů\nDigitální transformace výroby – inspirativní pohled Davida Peška na moderní nástroje a strategie\, které mění způsob\, jakým firmy plánují\, vyrábějí a inovují. Ukázky úspěchů i slepých uliček inovačních projektů  z českého prostředí a spolupráce s ČVUT\nPrivátní AI řešení od HPE – bezpečná a výkonná infrastruktura pro firemní AI bez nutnosti cloudových služeb\n\nPro koho je konference určena?\n\nTop management a vedení firmy\nPro CEO\, CFO a další členy vedení firem\, kteří hledají strategické výhody v digitální transformaci. Představíme\, jak implementace AI agentů mění firemní procesy\, zvyšuje produktivitu a přináší hmatatelné úspory a ROI.\nTechnický management\nPro technické manažery a specialisty\, kteří hledají nové způsoby\, jak optimalizovat procesy ve firmě. Uvidíte konkrétní ukázky\, jak AI agenti mohou automatizovat rutinní úkoly\, poskytovat rychlý přístup k technickým informacím a podporovat rozhodování v reálném čase. V interaktivní AI zóně si můžete vše vyzkoušet naživo.\nIT specialisté a integrátoři\nPro IT týmy\, kteří se zajímají o technickou stránku nasazení AI agentů a moderní infrastruktury. Ukážeme\, jak funguje integrace do Microsoft Teams\, jak využít platformu Copilot Studia a co je potřeba pro bezpečný a škálovatelný provoz.\nObchodní a prodejní vedení\nPro vedení obchodních týmů\, obchodní manažery\, kteří chtějí zefektivnit přípravu nabídek a zlepšit zákaznickou komunikaci. AI agenti ukážou\, jak rychle získat potřebná data\, připravit nabídky a reporty\, a jak automatizovat opakující se procesy.\nHR a personalisté\nPro personalisty\, HR manažery a týmy zaměřené na onboarding a interní komunikaci. AI agenti vám umožní zrychlit zpracování dotazníků\, odpovídat na nejčastější dotazy nových zaměstnanců a zjednodušit administrativní úkony.\n\nProgram\n\n\n 8:30 – 9:00\n\n\n\nRegistrace a welcome coffee​\n\n\n\n\n\n\n\n\n\n\n9:00 – 9:15\n\n\nÚvodní slovo​\n\n\n\n\n\n\n\n\n\n\n9:15 – 9:30\n\n\n\nPředstavení organizátorů a partnerů​ – Pavel Bartík + Jaroslav Kamenčák \n\nADEON CZ s.r.o. – technologický partner pro digitalizaci a automatizaci​\nTIC Zlín – podpora inovací a rozvoje podnikání ve Zlínském kraji​\nTD Synnex – MS Copilot řešení\, dodavatel SW a HW​\nEDIH CTU – Evropské centrum pro digitální inovace při Českém vysokém učení technickém v Praze\n\n\n\n\n\n\n\n\n\n\n\n\n9:30 – 10:15\n\n\n\nDigitální transformace výroby – EDIH CTU – David Pešek \n\nmoderní nástroje a strategie\, které mění způsob\, jakým firmy plánují\, vyrábějí a inovují.\núspěchy i slepé uličky inovačních projektů z českého prostředí a zkušenosti ze spolupráce s ČVUT.\n\n\n\n\n\n\n  \n\n\n\n\n10:15 – 11:00\n\n\n\nTvorba AI agentů pomocí Copilot Studio​ –Roman Slobodník + Barbora Chovancová \n\nCo je Copilot Studio a jak funguje​\nArchitektura agentů: vstupy\, výstupy\, paměť\, nástroje​\nJak navrhnout agenta pro konkrétní firemní potřeby\n\n\n\n\n\n\n\n\n\n\n\n\n11:00 – 11:45\n\n\nPauza na oběd\, coffee\, diskuze a program​\n\n\n\n\n\n\n\n\n\n\n\n11:45 – 12:30\n\n\n\nNázorné ukázky a Use Case scénáře​ – Roman Slobodník + Tomáš Máčalík \n\nAgent pro zákaznickou podporu ve výrobní firmě​\nAutomatizace interních procesů (např. HR\, údržba\, reporting)​\nIntegrace s podnikovými systémy (např. ERP\, CRM)​\n\n\n\n\n\n\n\n\n\n\n\n\n12:30 – 13:15\n\n\n\nHPE Private Cloud AI -​ Michal Duba + Ladislav Pecen \n\nJak řešit otázku bezpečnosti​\nHPE řešení​\nBezpečnost a výkon pod kontrolou\n\n\n\n\n\n\n\n\n\n\n\n\n13:15 – 13:30\n\n\n\nZávěr​ – Pavel Bartík \n\nShrnutí hlavních poznatků​\nDoporučení pro další kroky​\nPozvání k individuálním konzultacím​\n\n\n\n\n\n\n\n\n\n\n\n\nDoprovodný program\n\n\n\nZažijte AI v akci. V naší AI zóně si vyzkoušíte\, jak může umělá inteligence pomoci vašim týmům. Interaktivní stanice vám představí specializované AI agenty z různých oblastí\, jako je HR\, obchod nebo technologie. Na vlastní kůži zažijete\, jak snadno a efektivně zvládají každodenní úkoly. \nVedle toho budete mít možnost osobně otestovat řešení HPE\, která přinášejí moderní infrastrukturu pro AI i datově náročné aplikace. \n\n\n\n\n\n\n\n\n  \n\nRegistrace\nÚčast je bezplatná po předchozí registraci zde\, nejpozději do 7. 11. 2025.
URL:https://www.edihctu.eu/event/ai-for-industry-budoucnost-zacina-dnes/
CATEGORIES:Dny AI,účastníme se
ATTACH;FMTTYPE=image/jpeg:https://www.edihctu.eu/wp-content/uploads/2025/10/AI-for-industry_web.jpg
END:VEVENT
BEGIN:VEVENT
DTSTART;TZID=Europe/Helsinki:20251113T120000
DTEND;TZID=Europe/Helsinki:20251113T140000
DTSTAMP:20260420T085102
CREATED:20251027T121045Z
LAST-MODIFIED:20251027T121243Z
UID:3396-1763035200-1763042400@www.edihctu.eu
SUMMARY:AI jako užitečný pomocník ve firmě i na úřadě
DESCRIPTION:S radostí zveme malé a střední podniky i zástupce veřejného sektoru na akci organizovanou naším konsorciálním partnerem – Inovačním centrem Ústeckého kraje! \n\n\n  \nŘečníci:\n \nObjevte s Martinem Jechem na praktických příkladech\, jak může být ChatGPT spolehlivým pomocníkem ve vaší kanceláři. Naučte se\, jak jej efektivně implementovat i do svého pracovního prostředí. \n  \n  \n  \n\n\n  \n  \n\n\n  \nS Martinem Richterem prozkoumáme dynamicky se rozvíjející svět AI-generovaných manipulací a dezinformací. Ukážeme si\, jak (ne)snadné je takový manipulativní obsah odhalit. Rozpoznáme ho dřív\, než ovlivní naše rozhodování ve firmách a institucích? \n\n\n\n\n\n\n\n\n\n\nProgram akce:\n\n\nWORKSPACE: \n12:00 – 12:45   Martin Jech a moderace obsahu s ChatGPT pro firmy  \nCOFFEE BREAK \n12:55 – 13:40   Martin Jech a moderace obsahu s ChatGPT pro veřejnou správu \n13:40 – 14.00 NETWORKING \n\n\n  \n\n\nICUK SPACE CAFÉ: \n12:00 – 12:45   Martin Richter AI a dezinformace pro veřejnou správu \nCOFFEE BREAK \n12:55 – 13:40   Martin Richter AI a dezinformace pro firmy  \n  \n\n\nRegistrace:\nÚčast na akci je zdarma\, prosíme\, registrujte se zde. Těšíme se na Vás! \n 
URL:https://www.edihctu.eu/event/ai-jako-uzitecny-pomocnik-ve-firme-i-na-urade/
LOCATION:Inovační centrum Ústeckého kraje\, Velká Hradební 2800\, Ústí nad Labem
CATEGORIES:organizujeme
ATTACH;FMTTYPE=image/jpeg:https://www.edihctu.eu/wp-content/uploads/2025/10/AI-jako-pomocnik_ICUK_web-edihctu.jpg
END:VEVENT
END:VCALENDAR