BEGIN:VCALENDAR
VERSION:2.0
PRODID:-//EDIH CTU - ECPv6.15.20//NONSGML v1.0//EN
CALSCALE:GREGORIAN
METHOD:PUBLISH
X-WR-CALNAME:EDIH CTU
X-ORIGINAL-URL:https://www.edihctu.eu
X-WR-CALDESC:Akce na EDIH CTU
REFRESH-INTERVAL;VALUE=DURATION:PT1H
X-Robots-Tag:noindex
X-PUBLISHED-TTL:PT1H
BEGIN:VTIMEZONE
TZID:Europe/Helsinki
BEGIN:DAYLIGHT
TZOFFSETFROM:+0200
TZOFFSETTO:+0300
TZNAME:EEST
DTSTART:20230326T010000
END:DAYLIGHT
BEGIN:STANDARD
TZOFFSETFROM:+0300
TZOFFSETTO:+0200
TZNAME:EET
DTSTART:20231029T010000
END:STANDARD
BEGIN:DAYLIGHT
TZOFFSETFROM:+0200
TZOFFSETTO:+0300
TZNAME:EEST
DTSTART:20240331T010000
END:DAYLIGHT
BEGIN:STANDARD
TZOFFSETFROM:+0300
TZOFFSETTO:+0200
TZNAME:EET
DTSTART:20241027T010000
END:STANDARD
BEGIN:DAYLIGHT
TZOFFSETFROM:+0200
TZOFFSETTO:+0300
TZNAME:EEST
DTSTART:20250330T010000
END:DAYLIGHT
BEGIN:STANDARD
TZOFFSETFROM:+0300
TZOFFSETTO:+0200
TZNAME:EET
DTSTART:20251026T010000
END:STANDARD
BEGIN:DAYLIGHT
TZOFFSETFROM:+0200
TZOFFSETTO:+0300
TZNAME:EEST
DTSTART:20260329T010000
END:DAYLIGHT
BEGIN:STANDARD
TZOFFSETFROM:+0300
TZOFFSETTO:+0200
TZNAME:EET
DTSTART:20261025T010000
END:STANDARD
END:VTIMEZONE
BEGIN:VEVENT
DTSTART;TZID=Europe/Helsinki:20250429T140000
DTEND;TZID=Europe/Helsinki:20250429T153000
DTSTAMP:20260421T064836
CREATED:20250328T115209Z
LAST-MODIFIED:20251128T114949Z
UID:3444-1745935200-1745940600@www.edihctu.eu
SUMMARY:AI dovednosti pro MSP: Marketing strategie a AI
DESCRIPTION:Dovolujeme si Vás pozvat na webinář\, který připravil konsorciální partner EDIH CTU – Asociace malých a středních podniků a živnostníků – ve spolupráci s Google pro malé a střední podniky. \nTřetí ze série webinářů na téma AI dovednosti pro malé a střední podniky je zde! \nKDY: 29. 4. 2025 \nČAS: 14:00 – 15:30 \nKDE: online na platformě Google Meet \nPřednášející: Tomáš Schwarz \nTomáš je marketingový stratég. Zakladatel full-servisové agentury Upster se 40 experty. Než začal firmám pomáhat agenturně\, působil řadu let jako freelancer a interim CMO. Pomohl tak desítkám firem stabilizovat jejich marketingový tým. A nakonec je dovedl i k potřebným strategickým cílům. Ať už to byl EXIT nebo dostat se z propadu do růstu. V PPC proinvestoval přes 400 milionů korun napříč celým světem a vygeneroval miliardy v tržbách. \nVstup zdarma po předchozí registraci ZDE. \n 
URL:https://www.edihctu.eu/event/ai-dovednosti-pro-msp-3/
CATEGORIES:Google Digitální Garáž,spoluorganizujeme
ATTACH;FMTTYPE=image/jpeg:https://www.edihctu.eu/wp-content/uploads/2025/11/Google-DigiGar_250429.jpg
END:VEVENT
BEGIN:VEVENT
DTSTART;TZID=Europe/Helsinki:20250422T140000
DTEND;TZID=Europe/Helsinki:20250422T153000
DTSTAMP:20260421T064836
CREATED:20250328T114216Z
LAST-MODIFIED:20251128T114106Z
UID:3441-1745330400-1745335800@www.edihctu.eu
SUMMARY:AI dovednosti pro MSP: Buďte produktivnější s AI
DESCRIPTION:Dovolujeme si Vás pozvat na webinář\, který připravil konsorciální partner EDIH CTU – Asociace malých a středních podniků a živnostníků – ve spolupráci s Google pro malé a střední podniky. \nDruhý ze série webinářů na téma AI dovednosti pro malé a střední podniky je zde! \nKDY: 22. 4. 2025 \nČAS: 14:00 – 15:30 \nKDE: online na platformě Google Meet \nPřednášející: Ivan Kutil \nIvan patří k nejvýraznějším odborníkům na Google v Česku. Od roku 2013 je zařazen do elitního programu Google Developer Expert a s jeho specializací je pouze 20 lidí na světě.V roce 2021 obdržel jako první Čech ocenění Champion Innovators pro Google Cloud.  Spoluzaložil firmu AppSatori\, která se zaměřuje na přeprodej a konzultaci služeb Google Cloud a Google Workspace. V AppSatori zastává pozici technického ředitele (CTO) a je odpovědný za strategický\, technologický a znalostní rozvoj firmy. Ivan je vášnivým propagátorem inovací a digitalizace. Jeho cílem je pomoci firmám v Česku využít potenciál technologií k dosažení jejich cílů. \nVstup zdarma po předchozí registraci ZDE. \n 
URL:https://www.edihctu.eu/event/ai-dovednosti-pro-msp-2/
CATEGORIES:Google Digitální Garáž,spoluorganizujeme
ATTACH;FMTTYPE=image/jpeg:https://www.edihctu.eu/wp-content/uploads/2025/11/Google-DigiGar_250422.jpg
END:VEVENT
BEGIN:VEVENT
DTSTART;TZID=Europe/Helsinki:20250415T140000
DTEND;TZID=Europe/Helsinki:20250415T153000
DTSTAMP:20260421T064836
CREATED:20250328T112536Z
LAST-MODIFIED:20251128T112426Z
UID:3434-1744725600-1744731000@www.edihctu.eu
SUMMARY:AI dovednosti pro MSP: Buďte produktivnější s AI
DESCRIPTION:Dovolujeme si Vás pozvat na webinář\, který připravil konsorciální partner EDIH CTU – Asociace malých a středních podniků a živnostníků – ve spolupráci s Google pro malé a střední podniky. \nPrvní ze série webinářů na téma AI dovednosti pro malé a střední podniky je zde! \nKDY: 15. 4. 2025 \nČAS: 14:00 – 15:30 \nKDE: online na platformě Google Meet \nPřednášející: Jakub Hýl \nJakub je Principal Consultant v Devoteamu\, kde se věnuje umělé inteligenci. Má bohaté zkušenosti s implementací Google Cloudu\, Machine Learning a AI řešení pro velké firmy nejen v ČR ale také ve Švýcarsku. \nVstup zdarma po předchozí registraci ZDE. \n 
URL:https://www.edihctu.eu/event/ai-dovednosti-pro-msp/
CATEGORIES:Google Digitální Garáž,spoluorganizujeme
ATTACH;FMTTYPE=image/jpeg:https://www.edihctu.eu/wp-content/uploads/2025/11/Google-DigiGar_250415.jpg
END:VEVENT
BEGIN:VEVENT
DTSTART;TZID=Europe/Helsinki:20241205T093000
DTEND;TZID=Europe/Helsinki:20241205T150000
DTSTAMP:20260421T064836
CREATED:20241101T105558Z
LAST-MODIFIED:20251201T105528Z
UID:3487-1733391000-1733410800@www.edihctu.eu
SUMMARY:Konference Průmysl 4.0 v praxi 2024
DESCRIPTION:Společně s našimi partnery si Vás dovolujeme pozvat na další ročník konference Průmysl 4.0 v praxi 2024. \nAkci organizačně zajišťuje Národní centrum Průmyslu 4.0 ve spolupráci s konsorciálním partnerem EDIH CTU – Svazem průmyslu a dopravy ČR. \nMezi další spoluorganizátory jsou také RICAIP Testbed Prague a Škoda Auto. \nÚčast na akci je zdarma po předchozí registraci zde. \n  \nA co Vás během letošního ročníku konference čeká?\n\n\n\n  \nProgram akce \n \n\n\n09:30-10:00\nRegistrace\n\n\n10:00-10:10\nÚvodní slovo organizátorů \n  \nJiří Holoubek\, Svaz Průmyslu a dopravy ČR \nRobert Keil\, NCP 4.0\n\n\n\n\n\nI. BLOK \nPANELOVÁ DISKUSE: Současný stav Průmyslu 4.0\n\n\n10:10–10:40\ndiskutující  \n  \n·      Robert Keil\, Národní centrum Průmyslu 4.0 \n·      Jiří Holoubek\, Svaz Průmyslu a dopravy ČR \n·      Karel Mayer\, Česká společnost pro údržbu \n·      Jana Polášek Filová\, Škoda Auto\n\n\n\n\n\nII. BLOK \nKONFERENČNÍ ČÁST: Vítězné projekty\n\n\n10:40–11:00\nVítěz Ceny za Průmysl 4.0 Svazu průmyslu a dopravy 2024 – FORVIA HELLA \nVytvoření konceptu univerzální plně automatizované výroby osvětlovací techniky pro automobilový průmysl s využitím technologie VR. Spolupráce týmu z ČR a SK. \n  \nTomáš Sauer\, Global Competence Field Leader\, FORVIA HELLA \nNa začátku projektu představovalo velkou výzvu zajištění materiálního vybavení a personálního obsazení\, což vyžadovalo pečlivou koordinaci expertních znalostí a správné uspořádání technologického a profesního mixu zapojených partnerů. Projektový tým považuje všechny kroky za správné\, ale uznává\, že původní časový plán byl příliš ambicózní.\n\n\n11:00–11:20\nImplementace ve vlastní firmě – Maxion Wheels Czech s.r.o. \nPřechod ze sekvenční výroby na in-line proces s robotickým meziskladem a automatickým JIT plánováním s vytvořením 100% tracebility produktu a procesu. \n  \nJiří Zaoral\, Plant Manager Aluminium\, Maxion Wheels Czech s.r.o. \nNejvětší výzvou v tomto projektu byla implementace change managementu\, protože přechod z manuální\, sekvenční výroby na plně automatizovaný a digitální in-line proces představoval zásadní změnu. Úspěch projektu byl podpořen výběrem kvalitního dodavatele\, což značně usnadnilo jeho realizaci. Pro budoucí zlepšení by bylo vhodné zahrnout podrobné přípravné školení o možnostech digitalizace\, které by pomohlo jasněji definovat zadání a zefektivnit plánování.\n\n\n11:20–11:40\nIntegrátor (CZ) – PARTORY GROUP  \nPlatforma zajišťující distribuovanou výrobu s využitím machine learningu s AI cenotvorbou. \n  \nMilan Málek\, CEO\, PARTORY  \nUvnitř společnosti nebyly žádné významné těžkosti\, protože firma byla od začátku postavena na digitálním produktu. Výzvy se objevily především při implementaci směrem k širší odborné veřejnosti. Tým nevidí potřebu nic měnit\, protože věří\, že chybami se člověk učí\, a každá zkušenost\, i ta negativní\, přispěla k jejich růstu a k dnešnímu úspěchu projektu.\n\n\n11:40–12:00\nIntegrátor (SK) – Spinbotics \nIntegrace modulárního a flexibliního robotického systému pro automatizaci výrobních procesů \n  \nMichal Blažek\, Chief marketing officer\, Spinbotics \nKlíčovým faktorem byla integrace produktů do IoT a cloudu pro nepřetržitý monitoring 24/7. Tato integrace vyžadovala od začátku kompatibilní procesy\, což vedlo k delší implementaci a větší preciznosti.\n\n\n12:00–12:45\nCoffee Break\n\n\n\n\n\nIII. BLOK \nKONFERENČNÍ ČÁST: Oceněné projekty\n\n\n12:45–13:05\nŠkoda Auto \nDigitalizace dispečinků pro řízení výroby ve výrobních závodech Škoda Auto v Kvasinách\, Mladé Boleslavi a v indické Púně \n  \nLukáš Grus\, Škoda Auto \nProjekt se zaměřil na zajištění rychlé implementace digitálních řešení ve výrobním prostředí Škoda Auto\, přičemž kladl důraz na plynulost výroby a IT bezpečnost. Hlavní výzvou bylo vyvážení očekávání interních zákazníků s kvalitou a cenou externě dodávaných řešení. V průběhu projektu se tým naučil lépe analyzovat interní požadavky\, porovnávat je s externími nabídkami a identifikovat potenciální rizika spojená s plánováním a realizací IT projektů ve výrobní sféře.\n\n\n13:05–13:25\nVítkovice Cylinders \nKonstrukce vysokotlakého skladu pro vodík \n  \nVladimír Smrž\, Business Development Manager\, Vítkovice Cylinders \nHlavními částmi projektu byly konstrukce vysokotlakého skladu pro vodík\, algoritmy pro efektivní využití plynu\, automatizační prvky a software pro řízení\, bezpečnost a bilanční výpočty. Při návrhu bylo třeba „předvídat budoucnost“\, protože masové využití vodíku je stále v počátcích\, a tým musel odhadnout budoucí výrobní a spotřebitelské řetězce\, jejich parametry a požadavky. Projektový tým dnes nevidí potřebu nic měnit\, protože má lepší přehled o budoucích trendech v oblasti zeleného vodíku a dokáže své řešení postupně přizpůsobovat\, jelikož se jedná o vyvíjející se organismus.\n\n\n13:25–13:45\nKinalisoft \nAutomatizované testovací zařízení pro malosériovou výrobu v oblasti elektroniky \n  \nRadek Šťourač\, CEO\, Kinalisoft \nSpolečnost zastává roli integrátora a její projekty měly společnou charakteristiku – kladly důraz na revizi stávajících „papírových“ procesů\, nikoli jen na jejich digitalizaci. Tento přístup vedl k vyšší efektivitě\, přičemž práce byla stejná\, ale výsledky byly nesrovnatelně lepší. V budoucnu by tým vždy kladl důraz na revizi procesů před zahájením digitalizace a prosazoval by propojení všech digitálních uzlů již od začátku\, aby data mohla plynule proudit mezi systémy místo jejich izolace.\n\n\n13:45–14:00\nAkademicko-průmyslové projekty\, Q&A a závěrečné shrnutí \nJiří Holoubek\, SP ČR \nRobert Keil\, NCP 4.0 \n  \nAktuální řešení Průmyslu 4.0 realizované v rámci propojení akademie s průmyslem. Závěrečné shrnutí a dotazy.\n\n\n14:00–15:00\nKomentovaná prohlídka RICAIP Testbedu Praha
URL:https://www.edihctu.eu/event/konference-prumysl-4-0-v-praxi-2024/
CATEGORIES:spoluorganizujeme,účastníme se
ATTACH;FMTTYPE=image/jpeg:https://www.edihctu.eu/wp-content/uploads/2025/12/Konference-Prumysl-4.0-v-praxi-2024.jpg
END:VEVENT
END:VCALENDAR