BEGIN:VCALENDAR
VERSION:2.0
PRODID:-//EDIH CTU - ECPv6.15.20//NONSGML v1.0//EN
CALSCALE:GREGORIAN
METHOD:PUBLISH
X-WR-CALNAME:EDIH CTU
X-ORIGINAL-URL:https://www.edihctu.eu
X-WR-CALDESC:Akce na EDIH CTU
REFRESH-INTERVAL;VALUE=DURATION:PT1H
X-Robots-Tag:noindex
X-PUBLISHED-TTL:PT1H
BEGIN:VTIMEZONE
TZID:Europe/Helsinki
BEGIN:DAYLIGHT
TZOFFSETFROM:+0200
TZOFFSETTO:+0300
TZNAME:EEST
DTSTART:20240331T010000
END:DAYLIGHT
BEGIN:STANDARD
TZOFFSETFROM:+0300
TZOFFSETTO:+0200
TZNAME:EET
DTSTART:20241027T010000
END:STANDARD
BEGIN:DAYLIGHT
TZOFFSETFROM:+0200
TZOFFSETTO:+0300
TZNAME:EEST
DTSTART:20250330T010000
END:DAYLIGHT
BEGIN:STANDARD
TZOFFSETFROM:+0300
TZOFFSETTO:+0200
TZNAME:EET
DTSTART:20251026T010000
END:STANDARD
BEGIN:DAYLIGHT
TZOFFSETFROM:+0200
TZOFFSETTO:+0300
TZNAME:EEST
DTSTART:20260329T010000
END:DAYLIGHT
BEGIN:STANDARD
TZOFFSETFROM:+0300
TZOFFSETTO:+0200
TZNAME:EET
DTSTART:20261025T010000
END:STANDARD
END:VTIMEZONE
BEGIN:VEVENT
DTSTART;TZID=Europe/Helsinki:20250920T100000
DTEND;TZID=Europe/Helsinki:20250920T170000
DTSTAMP:20260421T234030
CREATED:20250912T141318Z
LAST-MODIFIED:20250912T141318Z
UID:3172-1758362400-1758387600@www.edihctu.eu
SUMMARY:Festival AI pro každého
DESCRIPTION:Zveme vás na společnou expozici CIIRC ČVUT\, EDIH CTU a AI-MATTERS/TEF v rámci akce Ministerstva průmyslu a obchodu s názvem “Festival AI pro každého”. \nPřijďte v sobotu 20. září 2025 od 10:00 do 17:00 hodin do budovy MPO\, Na Františku 32 v Praze a dozvíte se na jednom místě spoustu novinek i realizací v oblasti umělé inteligence. \n  \nK Festivalu AI se letos aktivně zapojují také týmy CIIRC ČVUT\, EDIH CTU (Evropské centrum pro digitální inovace ČVUT) a české kanceláře evropské sítě AI-MATTERS/TEF.  \nChceme návštěvníkům nabídnout zajímavou formou pohled na to\, jak mohou univerzitní centra a evropské iniciativy pomáhat firmám i veřejnému sektoru s nasazováním umělé inteligence do praxe. Dozvíte se více o příležitostech\, které se v této oblasti nabízejí\, i o konkrétních příkladech již dokončených nebo probíhajících projektů. Také zjistíte\, jak se do spolupráce zapojit.  \n  \nNavštivte náš společný stánek a vyzkoušejte si na vlastní kůži: \n\nChatbota ADAMa\, který už pomáhá auditorům na Ministerstvu financí – přímo na místě si navíc budete moci vyzkoušet svůj vlastní LLM model. Když si donesete své vlastní dokumenty\, my Vám postavíme zkušebního mini-Adama.\n3D tisk v praxi – od velkých funkčních dílců až po jemné a komplexní struktury.\nChytré řešení pro autonomní sekačky\, určené k údržbě travnatých ploch ve fotovoltaických elektrárnách a průmyslových areálech.\nTechnologie RICAIP Testbed Praha (CIIRC ČVUT) – nahlédněte do experimentálního pracoviště\, kde se testují a vyvíjejí nejmodernější řešení pro průmyslovou výrobu. \n\n  \nHlavní prezentace AI-MATTERS/TEF proběhne na stánku CIIRC ČVUT\, ale s jeho aktivitami se setkáte také na stáncích dalších českých partnerů této sítě – tedy na stánku Vysokého učení technického v Brně a VŠB-Technické univerzity Ostrava\, kde vám kolegové z CEITEC VUT\, resp. FEI VŠB-TUO představí další příklady realizovaných projektů i technologické ukázky. \nDozvíte se\, jak naše testbedy a inovativní infrastruktury v Praze\, Brně a Ostravě fungují v propojené síti napříč republikou. \n  \nA na co dalšího se v rámci Festivalu AI můžete těšit? \nČeká vás jedinečný den plný zážitků\, inspirace a technologií\, které ukazují\, jak umělá inteligence může zpříjemnit život doma\, v práci i ve firmách. \n\nInteraktivní zóny s ukázkami využití AI v každodenním životě\nPrezentace univerzit\, firem a startupů – od automobilových systémů VALEO přes projekty prg.ai až po JARABOTa či Kardi AI\nPrezentace Evropských center pro digitální inovace a Testovacích a experimentálních zařízení pro AI\nDětský program s robotickým psem a hravými aktivitami pro nejmenší\nAutomatizovaná prodejna 24/7 a řada technologických novinek\, které si vyzkoušíte na vlastní kůži\nFestivalová atmosféra propojující odborníky\, firmy i širokou veřejnost – letos již s účastí více než 27 předních českých AI firem\n\n  \n„Chceme ukázat\, že umělá inteligence není jen téma pro odborníky\, ale nástroj\, který se stává neodmyslitelnou součástí našich životů. Těšíme se\, že AI představíme široké veřejnosti přímo v prostorách ministerstva\,“ říká ministr průmyslu a obchodu Lukáš Vlček\, který se akce zúčastní. \n  \nFestival je zdarma a otevřený pro všechny\, kdo se chtějí dozvědět více o možnostech umělé inteligence – rodiny s dětmi\, studenti\, podnikatelé i zájemci z řad široké veřejnosti. \n  \nPřijďte 20. září na Festival AI pro každého – těšíme se na vás! \n  \n_____________ \nWe invite you to visit the joint exhibition of CIIRC CTU\, EDIH CTU\, and AI-MATTERS/TEF at the event organized by the Ministry of Industry and Trade\, entitled “AI Festival for Everyone”. \n\n Join us on Saturday\, 20 September 2025\, from 10:00 to 17:00 at the premises of the Ministry (Na Františku 32\, Prague) and discover a wide range of new developments and real-world applications in the field of artificial intelligence. \nThis year\, the CIIRC CTU\, EDIH CTU (European Digital Innovation Hub at CTU)\, and the Czech office of the European network AI-MATTERS/TEF are actively participating in the AI Festival. \n\n Our aim is to provide visitors with a comprehensive overview of how university centres and European initiatives can support companies and the public sector in implementing artificial intelligence into practice. You will learn more about the opportunities we offer to businesses\, about concrete projects that are already successfully running\, as well as the ways you can get involved in cooperation. \n  \nVisit our joint stand and experience first-hand: \n\nADAM chatbot\, already assisting auditors at the Ministry of Finance – and an opportunity to test your own LLM model right on the spot. If you bring us your documents\, we will programme your own mini-ADAM.\n3D printing in action – from large functional components to fine and complex structures.\nSmart solutions for autonomous mowers\, designed to maintain grassy areas in photovoltaic power plants and industrial sites.\nRICAIP Testbed Prague (CIIRC CTU) – get a glimpse into the experimental facility where cutting-edge solutions for industrial manufacturing are tested and developed.\n\nThe main presentation of AI-MATTERS/TEF will take place at the CIIRC CTU stand\, but you will also be able to explore its activities at the stands of other Czech partners in this network – at Brno University of Technology (CEITEC BUT) and VSB – Technical University of Ostrava (Faculty of Electrical Engineering and Computer Science\, FEI VSB-TUO)\, where colleagues will present additional project examples and technology demonstrations.\n You will discover how our testbeds and innovative infrastructures in Prague\, Brno\, and Ostrava operate as part of an interconnected nationwide network. \n  \nWhat else can you look forward to at the AI Festival? \nExpect a unique day full of experiences\, inspiration\, and technologies that demonstrate how artificial intelligence can improve life at home\, at work\, and in business. \n\nInteractive zones with demonstrations of AI in everyday life\nPresentations from universities\, companies\, and startups – from automotive systems by VALEO and projects by prg.ai to JARABOT and Kardi AI\nPresentations of EDIHs – European Digital Innovation Hubs and TEFs – AI Testing and Experimentation Facilities\nA children’s program featuring a robotic dog and playful activities for the youngest visitors\nAn automated 24/7 store and a variety of technological innovations you can try out for yourself\nA festival atmosphere connecting experts\, companies\, and the general public – this year\, with the participation of more than 27 leading Czech AI companies\n\n\n“We want to show that artificial intelligence is not only a topic for experts\, but a tool that is becoming an inseparable part of our lives. We look forward to presenting AI to the wider public directly in the premises of the Ministry\,” says Minister of Industry and Trade Lukáš Vlček\, who will attend the event. \n  \nThe festival is free of charge and open to everyone interested in learning more about the possibilities of artificial intelligence – families with children\, students\, entrepreneurs\, and the general public. \n  \nCome and join us on 20 September at the AI Festival for Everyone – we look forward to seeing you! \n 
URL:https://www.edihctu.eu/event/festival-ai-pro-kazdeho/
LOCATION:Ministerstvo průmyslu a obchodu\, Na Františku 32\, Praha 1\, Czech Republic
CATEGORIES:účastníme se
ATTACH;FMTTYPE=image/png:https://www.edihctu.eu/wp-content/uploads/2025/09/Festival-AI_MPO_2025-1.png
END:VEVENT
BEGIN:VEVENT
DTSTART;TZID=Europe/Helsinki:20250616T083000
DTEND;TZID=Europe/Helsinki:20250616T170000
DTSTAMP:20260421T234030
CREATED:20250519T075006Z
LAST-MODIFIED:20250519T075006Z
UID:2774-1750062600-1750093200@www.edihctu.eu
SUMMARY:CIIRC Tech Dating 2025
DESCRIPTION:Český institut informatiky\, robotiky a kybernetiky ČVUT v Praze (CIIRC ČVUT) otevírá dveře svých pracovišť tak\, jak jste to ještě nepoznali. Dostanete se i do laboratoří\, kde jste ještě nebyli. Vše s cílem ukázat to nejlepší\, co se pod jednou – CIIRC – střechou nabízí pro spolupráci s průmyslem. Zveme průmyslové firmy a jejich zástupce\, od managementu po technické experty\, na unikátní technologický showcase. Čeká vás dynamická akce\, kde uvidíte nejnovější vývoj v oblasti průmyslové AI\, robotiky a automatizace\, a především zjistíte\, jak vám můžeme pomoci se zaváděním inovací do vaší firmy. Nudit se rozhodně nebudete. Jak mohou průmyslové inovace posunout vaši firmu? Přijďte to zjistit z první ruky! \nAkce je otevřená zdarma pro předem registrované účastníky: \n \nCo můžete očekávat? \n\nVýběr z až 14 interaktivních stanovišť – možnost konzultací s našimi výzkumníky přímo u strojů a robotů. Skupinky maximálně po deseti lidech\, každé stanoviště na 15-20 minut. Program sestavíme podle Vašeho zájmu a preferencí – každý bude mít svůj seznam časů a stanovišť.\nNeformální diskuze o nejnovějších trendech a inovacích v oblasti AI\, automatizace a Průmyslu 4.0.\nSpeed dating s vědci – konzultace s experty z CIIRC na míru Vašim potřebám\, přímo na jejich pracovištích.\nMožnost spolupráce – zjistěte\, jak s námi můžete vyvíjet inovace přímo pro Váš byznys – třeba i s využitím dotačních programů a projektů\, do kterých je CIIRC ČVUT zapojený.\n\nProgram\n\n\n\nČas\nUdálost\nMísto konání\n\n\n8:30 – 10:00\nOpen Innovation Breakfast pořádaná za podpory EIT Manufacturing\, RICAIP a AI-MATTERS\nBudova A\, místnost A-101\, přízemí\n\n\n10:00 – 14:00\nProhlídky vybraných laboratoří na CIIRC ČVUT a návštěva připravených interaktivních technologických stanovišť\nBudova B\, přízemí a spodní patro – RICAIP Testbed Praha + vybrané laboratoře v budově CIIRC ČVUT (bude upřesněno)\n\n\n12:00 – 15:00\nLehký brunch a networking\nBudova B\, přízemí – RICAIP Testbed Praha\n\n\n14:00 – 15:30\nOne-to-one diskuse formou individuálních konzultací s našimi experty\nBudova B\, přízemí – RICAIP Testbed Praha\n\n\n15:30 – 16:00\nBlok prezentací o mezinárodní spolupráci\, dotovaných službách a možnostech spolupráce \n\n15:30 – 15:40 EDIH ČVUT a AI-MATTERS\n15:40 – 15:50 EIT Manufacturing\n15:50 – 16:00 AIRISE\n\n\nBudova B\, přízemí – RICAIP Testbed Praha\n\n\n16:00 – 16:30\nModerovaná panelová diskuze o možnostech\, synergiích a budoucí spolupráci\nBudova B\, přízemí – RICAIP Testbed Praha\n\n\n16:30\nPředpokládaný závěr akce\n\n\n\n\nProč přijít?\n\nZískáte přehled o nejnovějším vývoji a možnostech aplikace inovací ve vaší firmě.\nZjistíte\, že na CIIRC ČVUT nejsou jen akademičtí teoretici (ačkoli i ti jsou velmi potřební)\, ale zapálené týmy s erudicí a reálnými zkušenostmi s průmyslovou praxí. Hledají řešení a způsoby\, jak se vypořádat s překážkami. Jsou kreativní a flexibilní. Poznejte to sami díky této akci.\nNavážeme kontakty a domluvíme individuální konzultace a následný postup pro váš konkrétní případ.\nPřipravíme program na míru pro celý váš tým – můžete přijít ve skupině\, rozdělit se\, stihnout toho více.\nNa CIIRCu můžete strávit hodně nebo málo času – všechno podle vašich možností. Čas můžete rozložit mezi témata\, která vás skutečně zajímají.\n\nCo na druhou stranu očekáváme my?\n\nTato akce je určená skutečně těm\, kteří mají zájem spolupracovat a hledají pomoc – a cítí\, že inovace jsou tou správnou cestou.\nNemusíte znát odpovědi na technické otázky\, nemusíte být odborníci přes AI či robotiku\, ale bude dobré\, když budete znát svoji firmu a problém\, který chcete řešit. Na to\, jak se s ním vypořádat\, už pak můžete přijít právě ve spolupráci s našimi týmy v CIIRC ČVUT.\n\nNabízíme příležitost propojit vědu s praxí a posunout vaši firmu do budoucnosti! \n \n \nJak to bude probíhat?\nZačínáme ráno v 8:30 snídaní – Open Innovation Breakfast pořádaná za podpory EIT Manufacturing\, RICAIP a AI-MATTERS\nSnídaně vás nastartuje. I proto je zaměřená hlavně na startupy. Zván je každý\, kdo se zajímá o průmyslové inovace: \n\nzástupci startupů\, kteří mají nápady a rádi je posunou dál na trh\nmanažeři výrobních podniků\, kteří se zajímají o novinky a vidí ve spolupráci se startupy potenciál získat technologický náskok\nmanagement korporací a investorů\, kteří uvažují o investování do nových myšlenek i s určitou mírou rizika.\n\nChceme vás propojit a nabídnout platformu pro spolupráci. Díky dlouhodobé spolupráci CIIRC ČVUT s EIT Manufacturing a také díky zapojení do projektů RICAIP a AI Matters máme k dispozici celou řadu osvědčených modelů a programů. Přijďte na tento neformální start dne.\nKde? Budova A\, místnost A-101\, přízemí\, nalevo od recepce \nV 10:00 se dveře laboratoří CIIRC ČVUT otevřou a bude už jen na vás\, které technologie budete chtít poznat zblízka\, a to v malých skupinkách maximálně po 10 lidech. Důležité ale je\, abyste se registrovali dopředu a i nám dali vědět\, co chcete vidět. Výběr bude pestrý\, těšit se můžete na témata jako: \n\nRobotický 3D tisk z polymerů a kovů\n3D rekonstrukce a robotická manipulace ve výrobě vč. 3D gripper\nDigitální dvojče a NVIDIA Omniverse\nOptimalizace výroby na příkladu galvanizační linky (sběr a analýza dat)\nOptimalizace procesů ve výrobě\, zdravotnictví\, logistice\, energetice\, armádních systémech a další\nAutonomní vozidla\nInteligentní rozhodování a plánování\nVizuální navigace mobilních prostředků v prostředí bez infrastruktury\nPokročilá robotická manipulace: Inspekční úloha\, pick&place\nPlánování a rozvrhování pro robotiku\, zejména logistiku\nVelká data a jazykové modely\nOptimalizace prostorového uspořádání továren\nŘízení flexibilních továren\nZpracování obrazu v průmyslové praxi\nPodpora efektivní přípravy svařování robotickou buňkou\na další…\n\nPřímo na místě pak budou k dispozici na každém stanovišti naši kolegové\, experti na slovo vzatí. Ukáží vám\, čím se v dané problematice zabývají a jak dané řešení pomáhá firmám. Domluvíte se na dalším postupu nebo si dáte čas na rozmyšlenou a vrátíte se kdykoli v budoucnu. Je to na vás. Projít můžete stanovišť\, na kolik vám síly a čas stačí. Jedno zastavení by nemělo zabrat víc než 20 minut. Pak se posunete dál nebo si dáte pauzu. Čas na toto celé kolečko budete mít do 14:00.\nKde? Budova B\, přízemí a spodní patro – RICAIP Testbed Praha\, ale i další laboratoře v budově CIIRC ČVUT. \nOd 12:00 bude v RICAIP Testbed Praha k dispozici lehký brunch pro networking a také pro pauzu mezi dalšími návštěvami a konzultacemi. Otevřený bude do 15:00.\nKde? Budova B\, přízemí\, RICAIP Testbed Praha – Multifunkční místnost \nMezi 14:00 – 15:30 bude možné pokračovat ve one-to-one diskuzích v prostoru RICAIP Testbed Praha. Můžete si domluvit schůzku s našimi kolegy\, se kterými jste se už potkali během vaší tour\, a probrat věci napřímo. Kolem 14:00 se totiž všichni přesunou z otevřených laboratoří a budou vám k dispozici v testbedu.\nKde? Budova B\, přízemí\, RICAIP Testbed Praha – Multifunkční místnost \nMezi 15:30 – 16:30 naváže blok krátkých prezentací v češtině a angličtině\, kterou pro vás připravil tým expertů EIT Manufacturing\, EDIH ČVUT\, AI-MATTERS\, AIRISE a RICAIP Testbed Praha. V klidu se usadíte\, toto bude první a poslední klasická konferenční část. Dozvíte se o dalších možnostech mezinárodní spolupráce a přístupu k dalším službám a expertíze. Vysvětlíme\, kde a jak mohou firmy získat odbornou pomoc\, službu na míru\, to vše s výraznou dotací či zcela zdarma.\nKde? Budova B\, přízemí\, RICAIP Testbed Praha – Multifunkční místnost \n16:30 bude konec. Nebo začátek? Věříme\, že naše spolupráce bude pokračovat.
URL:https://www.edihctu.eu/event/ciirc-tech-dating-2025/
LOCATION:Český institut informatiky\, robotiky a kybernetiky\, ČVUT\, Jugoslávských partyzánů 1580/3\, Praha 6\, 16000
CATEGORIES:spoluorganizujeme
ATTACH;FMTTYPE=image/png:https://www.edihctu.eu/wp-content/uploads/2025/05/CIIRC-Tech-Dating_General.png
END:VEVENT
END:VCALENDAR