BEGIN:VCALENDAR
VERSION:2.0
PRODID:-//EDIH CTU - ECPv6.15.20//NONSGML v1.0//EN
CALSCALE:GREGORIAN
METHOD:PUBLISH
X-WR-CALNAME:EDIH CTU
X-ORIGINAL-URL:https://www.edihctu.eu
X-WR-CALDESC:Akce na EDIH CTU
REFRESH-INTERVAL;VALUE=DURATION:PT1H
X-Robots-Tag:noindex
X-PUBLISHED-TTL:PT1H
BEGIN:VTIMEZONE
TZID:Europe/Helsinki
BEGIN:DAYLIGHT
TZOFFSETFROM:+0200
TZOFFSETTO:+0300
TZNAME:EEST
DTSTART:20230326T010000
END:DAYLIGHT
BEGIN:STANDARD
TZOFFSETFROM:+0300
TZOFFSETTO:+0200
TZNAME:EET
DTSTART:20231029T010000
END:STANDARD
BEGIN:DAYLIGHT
TZOFFSETFROM:+0200
TZOFFSETTO:+0300
TZNAME:EEST
DTSTART:20240331T010000
END:DAYLIGHT
BEGIN:STANDARD
TZOFFSETFROM:+0300
TZOFFSETTO:+0200
TZNAME:EET
DTSTART:20241027T010000
END:STANDARD
BEGIN:DAYLIGHT
TZOFFSETFROM:+0200
TZOFFSETTO:+0300
TZNAME:EEST
DTSTART:20250330T010000
END:DAYLIGHT
BEGIN:STANDARD
TZOFFSETFROM:+0300
TZOFFSETTO:+0200
TZNAME:EET
DTSTART:20251026T010000
END:STANDARD
END:VTIMEZONE
BEGIN:VEVENT
DTSTART;TZID=Europe/Helsinki:20240529T093000
DTEND;TZID=Europe/Helsinki:20240529T173000
DTSTAMP:20260426T072206
CREATED:20240418T090711Z
LAST-MODIFIED:20240425T073120Z
UID:2052-1716975000-1717003800@www.edihctu.eu
SUMMARY:Den otevřených dveří pro Průmysl 4.0
DESCRIPTION:Na konci května se opět otevřou dveře našeho Testbedu pro průmysl 4.0! Kromě prohlídky našeho RICAIP výzkumného pracoviště budete mít možnost seznámit se s konkrétními technologiemi\, které v současné době dodáváme malým a středním podnikům i veřejnému sektoru. \nKomu je tato akce určena?\n\nMajitelé a manažeři firem\nInovační manažeři a technologičtí lídři\nZájemci o digitalizaci a Průmysl 4.0\nStart-upy\n\nCo vás čeká?\nKonferenční program \n\nStrategická diskuse o vývoji Průmyslu 4.0 v ČR a dalších krocích k jeho transformaci\nPředstavení případových studií ve výrobních firmách z ekosystému NCP 4.0\nCesta k úspěšné firmě 21. století – infrastruktura a příležitosti pro realizaci a financování inovací\, které se firmám otevírají v prostředí průmyslových testbedů\n\nVeletrh inovací – Interaktivní program v RICAIP Testbedu Praha a stánky partnerů NCP 4.0  \n\nKonkrétní ukázky zajímavých projektů a aplikací realizovaných v RICAIP Testbedu Praha ve spolupráci s firmami\nPortfolio služeb a technologií partnerů NCP 4.0\nMožnost zapojit se do diskuze a řešit konkrétní úlohy\n\nNetworking a konzultace s odborníky \n\nBezplatné konzultace s experty v oblasti digitalizace a Průmyslu 4.0\nPomoc s orientací ve službách pro celý inovační cyklus:  do DigiAuditu\, pres konzultace o možnostech (nejen) dotačního financování: test before invest\, proof of concept\, až po implementaci\n\nBonus – grilování a neformální networking \n\nUžijte si letní grilovačku a poznejte nás v neformální atmosféře\nDiskutujte témata\, která vás pálí\n\nProč se zúčastnit?\n\nZískáte ucelený přehled o trendech a novinkách v Průmyslu 4.0\nSeznámíte se s inspirativními příklady inovací z praxe\nNavážete kontakty s experty a s kolegy z oboru\nZískáte praktické rady a tipy pro digitalizaci a inovace ve vaší firmy\n\n\n\n\n\n\n\n\n\n\n\n\n\n\n\n\n\n\n\n\n\n\n\n\nProgram akce \nInformace o programu naleznete zde. \nRegistrace\nÚčast na akci je zdarma\, registrujte se\, prosím\, zde (registrační formulář je dole na uvedené stránce). \nTěšíme se na Vás!
URL:https://www.edihctu.eu/event/den-otevrenych-dveri/
LOCATION:Český institut informatiky\, robotiky a kybernetiky\, ČVUT\, Jugoslávských partyzánů 1580/3\, Praha 6\, 16000
ATTACH;FMTTYPE=image/png:https://www.edihctu.eu/wp-content/uploads/2024/04/DOD2024_banner_loga.png
END:VEVENT
END:VCALENDAR