BEGIN:VCALENDAR
VERSION:2.0
PRODID:-//EDIH CTU - ECPv6.15.20//NONSGML v1.0//EN
CALSCALE:GREGORIAN
METHOD:PUBLISH
X-WR-CALNAME:EDIH CTU
X-ORIGINAL-URL:https://www.edihctu.eu
X-WR-CALDESC:Akce na EDIH CTU
REFRESH-INTERVAL;VALUE=DURATION:PT1H
X-Robots-Tag:noindex
X-PUBLISHED-TTL:PT1H
BEGIN:VTIMEZONE
TZID:Europe/Helsinki
BEGIN:DAYLIGHT
TZOFFSETFROM:+0200
TZOFFSETTO:+0300
TZNAME:EEST
DTSTART:20220327T010000
END:DAYLIGHT
BEGIN:STANDARD
TZOFFSETFROM:+0300
TZOFFSETTO:+0200
TZNAME:EET
DTSTART:20221030T010000
END:STANDARD
BEGIN:DAYLIGHT
TZOFFSETFROM:+0200
TZOFFSETTO:+0300
TZNAME:EEST
DTSTART:20230326T010000
END:DAYLIGHT
BEGIN:STANDARD
TZOFFSETFROM:+0300
TZOFFSETTO:+0200
TZNAME:EET
DTSTART:20231029T010000
END:STANDARD
BEGIN:DAYLIGHT
TZOFFSETFROM:+0200
TZOFFSETTO:+0300
TZNAME:EEST
DTSTART:20240331T010000
END:DAYLIGHT
BEGIN:STANDARD
TZOFFSETFROM:+0300
TZOFFSETTO:+0200
TZNAME:EET
DTSTART:20241027T010000
END:STANDARD
END:VTIMEZONE
BEGIN:VEVENT
DTSTART;TZID=Europe/Helsinki:20231108T090000
DTEND;TZID=Europe/Helsinki:20231108T150000
DTSTAMP:20260421T193925
CREATED:20231106T095351Z
LAST-MODIFIED:20231106T095333Z
UID:1796-1699434000-1699455600@www.edihctu.eu
SUMMARY:EDIH Twister Vol. IV (Česko - Polsko)
DESCRIPTION:Dne 8. listopadu 2023 se zástupci EDIH CTU zúčastní již čtvrté networkingové akce s názvem EDIH Twister Vol. IV.  \nČesko-polská informační\, kontaktní a networkingová akce s představením služeb Evropských center pro digitální inovace (EDIH) a jejich partnerů na podporu digitální transformace malých a středních firem v česko-polském příhraničí proběhne v prostorách Národního superpočítačového centra IT4Innovations na VŠB-TUO.
URL:https://www.edihctu.eu/event/edih-twister-vol-iv-cesko-polsko/
LOCATION:Národní superpočítačové centrum IT4Innovations VŠB-TUO\, Studentská 6231/1b\, Ostrava\, Česká republika
ATTACH;FMTTYPE=image/png:https://www.edihctu.eu/wp-content/uploads/2023/11/edih-twister-cz-pl_ostrava_08-11-2023_banner.png
END:VEVENT
BEGIN:VEVENT
DTSTART;TZID=Europe/Helsinki:20231031T090000
DTEND;TZID=Europe/Helsinki:20231031T150000
DTSTAMP:20260421T193925
CREATED:20231010T081725Z
LAST-MODIFIED:20231010T081652Z
UID:1551-1698742800-1698764400@www.edihctu.eu
SUMMARY:Smart Business Festival
DESCRIPTION:Smart Business Festival CZ je informační\, prezentační\, kontaktní a networkingová akce zaměřená na sdílení novinek o projektech a aktivitách na podporu rozvoje digitální ekonomiky a společnosti a nové technologické i byznysové přístupy v podnikání českých malých a středních firem. \nV rámci letošního programu budou detailněji představeny služby Evropských center pro digitální inovace (EDIH) v České republice i okolních zemích. EDIH CTU na akci představí své technologie a praktické zkušenosti z transferu technologií do praxe. \nSoučástí programu bude i výstavní část.
URL:https://www.edihctu.eu/event/smart-business-festival/
LOCATION:Hotel Artemis Praha\, U Sluncové 14\, Praha 8\, 186 76
ATTACH;FMTTYPE=image/png:https://www.edihctu.eu/wp-content/uploads/2023/10/Smart-Business-Festival2.png
END:VEVENT
BEGIN:VEVENT
DTSTART;VALUE=DATE:20231024
DTEND;VALUE=DATE:20231026
DTSTAMP:20260421T193925
CREATED:20230911T142359Z
LAST-MODIFIED:20230911T205358Z
UID:1253-1698105600-1698278399@www.edihctu.eu
SUMMARY:LIFMAT 2023
DESCRIPTION:Zveme vás na unikátní konferenci LIFMAT\, která propojuje odborníky i širokou veřejnost ve světě digitálních technologií\, inovací a řízení životního stylu. Můžete se těšit na dva dny nabité přednáškami\, workshopy\, interaktivní výstavou\, hackatonem\, odborným speed datingem a dalším zajímavým programem. \nEDIH CTU zde představí své služby spojené s AI technologiemi ve zdravotnictví. Těšíme se na Vás!
URL:https://www.edihctu.eu/event/lifmat-2023/
LOCATION:Cubex Centrum Praha spol. s r. o.\, Na Strži 2097/63\, Praha 4-Nusle\, 140 00
ATTACH;FMTTYPE=image/png:https://www.edihctu.eu/wp-content/uploads/2023/09/LIFMAT-2023.png
ORGANIZER;CN="MagicWare%2C s.r.o.":MAILTO:info@lifmat.cz
END:VEVENT
BEGIN:VEVENT
DTSTART;TZID=Europe/Helsinki:20231017T100000
DTEND;TZID=Europe/Helsinki:20231017T130000
DTSTAMP:20260421T193925
CREATED:20230925T141258Z
LAST-MODIFIED:20230925T140640Z
UID:1388-1697536800-1697547600@www.edihctu.eu
SUMMARY:Kariérní veletrh COFIT
DESCRIPTION:
URL:https://www.edihctu.eu/event/karierni-veletrh-cofit/
LOCATION:Fakulta informačních technologií ČVUT v Praze\, Thákurova 9\, Praha 6\, 16000
ATTACH;FMTTYPE=image/png:https://www.edihctu.eu/wp-content/uploads/2023/09/COFIT.png
END:VEVENT
BEGIN:VEVENT
DTSTART;TZID=Europe/Helsinki:20231006T170000
DTEND;TZID=Europe/Helsinki:20231006T220000
DTSTAMP:20260421T193925
CREATED:20230912T121144Z
LAST-MODIFIED:20230912T121144Z
UID:1303-1696611600-1696629600@www.edihctu.eu
SUMMARY:Noc vědců 2023
DESCRIPTION:Chcete se dozvědět \n\nJak EDIH CTU pomáhá transferu AI technologií do praxe?\nJak mohou malé a střední podniky a veřejná správa využít naše služby?\nJaké technologie již máme „v šuplíku“ a jak to může pomoci zrovna Vaší společnosti?\nCo je to vlastně „testování před vlastní investicí“ a jak získat finance na to\, abyste aplikovali naše AI technologie v praxi?\nJaká školení v oblasti AI Vám můžeme nabídnout?\n\nNavštivte náš stánek během Noci vědců dne 6. října 2023 od 17:00\, poodhalíme Vám tajemství našeho EDIH CTU\, těšíme se na Vás v budově Českého institutu informatiky\, robotiky a kybernetiky!
URL:https://www.edihctu.eu/event/noc-vedcu-2023/
LOCATION:Český institut informatiky\, robotiky a kybernetiky\, ČVUT\, Jugoslávských partyzánů 1580/3\, Praha 6\, 16000
ATTACH;FMTTYPE=image/png:https://www.edihctu.eu/wp-content/uploads/2023/09/Noc-vedcu.png
END:VEVENT
END:VCALENDAR