BEGIN:VCALENDAR
VERSION:2.0
PRODID:-//EDIH CTU - ECPv6.15.20//NONSGML v1.0//EN
CALSCALE:GREGORIAN
METHOD:PUBLISH
X-ORIGINAL-URL:https://www.edihctu.eu
X-WR-CALDESC:Akce na EDIH CTU
REFRESH-INTERVAL;VALUE=DURATION:PT1H
X-Robots-Tag:noindex
X-PUBLISHED-TTL:PT1H
BEGIN:VTIMEZONE
TZID:Europe/Helsinki
BEGIN:DAYLIGHT
TZOFFSETFROM:+0200
TZOFFSETTO:+0300
TZNAME:EEST
DTSTART:20240331T010000
END:DAYLIGHT
BEGIN:STANDARD
TZOFFSETFROM:+0300
TZOFFSETTO:+0200
TZNAME:EET
DTSTART:20241027T010000
END:STANDARD
BEGIN:DAYLIGHT
TZOFFSETFROM:+0200
TZOFFSETTO:+0300
TZNAME:EEST
DTSTART:20250330T010000
END:DAYLIGHT
BEGIN:STANDARD
TZOFFSETFROM:+0300
TZOFFSETTO:+0200
TZNAME:EET
DTSTART:20251026T010000
END:STANDARD
BEGIN:DAYLIGHT
TZOFFSETFROM:+0200
TZOFFSETTO:+0300
TZNAME:EEST
DTSTART:20260329T010000
END:DAYLIGHT
BEGIN:STANDARD
TZOFFSETFROM:+0300
TZOFFSETTO:+0200
TZNAME:EET
DTSTART:20261025T010000
END:STANDARD
BEGIN:DAYLIGHT
TZOFFSETFROM:+0200
TZOFFSETTO:+0300
TZNAME:EEST
DTSTART:20270328T010000
END:DAYLIGHT
BEGIN:STANDARD
TZOFFSETFROM:+0300
TZOFFSETTO:+0200
TZNAME:EET
DTSTART:20271031T010000
END:STANDARD
END:VTIMEZONE
BEGIN:VEVENT
DTSTART;TZID=Europe/Helsinki:20250514T093000
DTEND;TZID=Europe/Helsinki:20250514T163000
DTSTAMP:20260420T142529
CREATED:20250505T124554Z
LAST-MODIFIED:20250505T124646Z
UID:2819-1747215000-1747240200@www.edihctu.eu
SUMMARY:AI in Everyday Life: Awareness\, Ethics & Practical Use
DESCRIPTION:Join us for a full-day interactive workshop designed to explore how artificial intelligence impacts your daily life—and how to engage with it critically\, ethically\, and effectively. Whether you’re curious\, sceptical\, or already using AI tools\, this workshop is for you! \nWho Will Be You Lecturer \nMaria Sahakyan is a postdoctoral researcher at NYU Abu Dhabi\, with a PhD in Computer Science and a background that bridges engineering\, finance\, and sustainability. Her work spans explainable AI\, computational social science\, and large-scale data analysis — with a focus on making algorithmic systems more transparent\, fair\, and grounded in real-world impact. \nMaria’s current research projects include: \n\nAnalysing 80\,000 peer reviews from 30\,000 scientific articles to examine how reviewer tone and bias are shaped by authors‘ gender\, race\, and institutional rank\nStudying scientist migration patterns and the effects of relocation on productivity\, collaboration\, and academic success\nInvestigating career discrimination using ~300 million LinkedIn CVs\, with a focus on how gender and race influence professional trajectories\nDeveloping explainable AI tools that improve how we interpret and audit machine learning models — the core of her dissertation\n\nBeyond her academic work\, Maria has contributed to projects in energy systems modelling\, statistical consulting\, and algorithmic transparency\, bringing a unique interdisciplinary and global lens to her research. \nWhat You’ll Learn\n\n>>How AI really works (no jargon needed!)\n>>How to spot and avoid AI bias and misinformation\n>>How generative tools like ChatGPT and DALL·E create content\n>>Practical AI tools you can use today\n>>How to write better prompts for smarter AI responses\n>>What AI means for the future—and how to stay ahead\n\n  \nFull-Day Program Overview\n9:00 – 9:30 | Registration  \n9:30 – 10:00 | Introduction & Icebreaker \n\n>>Quiz: Test your AI awareness\n>>Group chat: Where do you meet AI in daily life?\n>>Debunking myths: AI as a tool\, not a threat\n\n10:00 – 10:45 | Foundations of AI \n\n>>How AI\, Machine Learning & Deep Learning work\n>>AI bias explained + transparency tools\n>>Interactive: Visualising AI decisions using SHAP/LIME\n\n10:45 – 11:30 | Generative AI: Text\, Images & More \n\n>>Behind the scenes of ChatGPT\, DALL·E\, and others\n>>Hands-on demo: See AI generate content live\n>>Ethical concerns & how to spot misinformation\n\n11:30 – 11:45 | Coffee Break \n11:45 – 12:30 | AI Risks & How to Mitigate Them \n\n>>Topics: Privacy\, bias\, job automation\, deepfakes\n>>Activity: Team challenge to solve real-world AI issues\n\n12:30 – 13:00 | Public Perception of AI \n\n>>Czech public opinion: Surprising results from recent surveys\n>>Group talk: Fears vs. Facts\n\n13:00 – 14:00 | Lunch Break \n14:00 – 14:50 | AI Tools in Everyday Life \n\n>>Tools for productivity\, education\, healthcare\, and finance\n>>Tips for ethical\, mindful use of AI tools\n\n14:50 – 15:35 | Prompt Engineering: Talk to AI Like a Pro \n\n>>How prompts shape AI responses\n>>Practice: Test and refine your own AI prompts\n\n15:35 – 16:05 | The Future of AI \n\n>>Where AI is heading: trends\, ethics\, and regulation\n>>Group reflections and Q&A\n\n16:05 – 16:30 | Wrap-Up & Feedback \n\n>>Post-workshop survey\n>>Share your thoughts and takeaways\n>>Resource pack for continued learning\n\nWhat’s Included\n\n>>Presentation slides & live demos\n>>Prompt engineering scripts\n>>Case studies on AI ethics\n>>List of recommended AI tools & learning platforms\n\nWhy Attend?\n\n>>No tech background needed\n>>Interactive & hands-on sessions\n>>Real-world examples & discussions\n>>Learn from experts & peers\n\n  \nAre you interested? Please register here!
URL:https://www.edihctu.eu/event/ai-in-everyday-life-awareness-ethics-practical-use/
CATEGORIES:spoluorganizujeme
ATTACH;FMTTYPE=image/png:https://www.edihctu.eu/wp-content/uploads/2025/05/AI-in-Everyday-Life2.png
END:VEVENT
BEGIN:VEVENT
DTSTART;TZID=Europe/Helsinki:20250528T133000
DTEND;TZID=Europe/Helsinki:20250528T210000
DTSTAMP:20260420T142529
CREATED:20250526T084115Z
LAST-MODIFIED:20250526T102155Z
UID:2835-1748439000-1748466000@www.edihctu.eu
SUMMARY:Regulace umělé inteligence - seminář
DESCRIPTION:Dovolujeme si Vás pozvat na seminář\, který pořádá Česká asociace elektronických komunikací ve spolupráci s Deloitte\, Svazem průmyslu a dopravy ČR a EDIH CTU. \n  \nPROGRAM\n13:30–14:00    Registrace účastníků \n14:00–14:15    Úvodní slovo – Rostislav Kocman\, předseda ČAEK                                                 \n14:15–15:00    Historie AI actu a institucionální ukotvení regulace AI v ČR \n\nMarek Ebert (Český telekomunikační úřad)\,\nDaniel Všetečka (Ministerstvo průmyslu a obchodu)\,\nHynek Stehlík (Ministerstvo kultury)\,\nDeloitte Legal\,\nEDIH CTU\n\n15:00–15:45    Autorskoprávní aspekty související s umělou inteligencí \n\nAntonín Hedrlín (ČAEK\, HBO)\,\nAdéla Faladová (Ministerstvo kultury)\,\nTomáš Dobřichovský (advokát a přednášející)\,\nHana Gawlasová (Deloitte Legal)\n\n15:45-16:15     Coffee break \n16:15–17:00    Regulace a dohled nad AI v ČR a dopady na byznys \n\nŠárka Němečková (Český telekomunikační úřad)\,\nLenka Kučerová (PRG.AI)\,\nTomáš Krejčí (T-Mobile)\,\nMichal Krejčík (O2)\n\n17:00-21:00     Networking a neformální diskuse na terase \nRegistrovat na akci se můžete zde.
URL:https://www.edihctu.eu/event/regulace-umele-inteligence-seminar/
CATEGORIES:spoluorganizujeme
ATTACH;FMTTYPE=image/png:https://www.edihctu.eu/wp-content/uploads/2025/05/Regulace-AI.png
END:VEVENT
BEGIN:VEVENT
DTSTART;TZID=Europe/Helsinki:20250618T080000
DTEND;TZID=Europe/Helsinki:20250618T150000
DTSTAMP:20260420T142529
CREATED:20250602T135316Z
LAST-MODIFIED:20250602T141410Z
UID:2850-1750233600-1750258800@www.edihctu.eu
SUMMARY:Bezpečnost dokumentů\, fotografií a videa v době generativní AI
DESCRIPTION:Svaz průmyslu a dopravy ČR a EDIH CTU si Vás dovolují pozvat na další vzdělávací akci! \nGenerativní umělá inteligence dosáhla úrovně\, kdy je schopna vytvářet dokonale věrohodné texty\, obrazy\, videa i rozhovory. Videa s falešnými tvářemi\, hlasovými napodobeninami i realistickými dokumenty již nejsou vizí budoucnosti\, ale realitou dneška. A co přijde zítra? Svět\, ve kterém bude nutné ověřovat naprosto vše — od e-mailu po laboratorní protokol.\nDo tohoto naléhavého tématu vás uvede Ing. Jan Čech\, Ph.D. z katedry kybernetiky ČVUT FEL\, jeden z předních odborníků na detekci obrazových a video deepfakes. Jeho prezentace vám otevře oči — a pravděpodobně vás i zneklidní. \nNaštěstí nejsme bezbranní. V dalších příspěvcích vám ukážeme konkrétní způsoby\, jak lze pomocí technologií jako blockchain zajistit důvěryhodnost a neměnnost dokumentů a dat.  \nPředstavíme reálné využití těchto nástrojů v rámci ověřování akreditací kalibračních a zkušebních laboratoří\, jak jej uplatňuje Český institut pro akreditaci (ČIA).  \nDotkneme se i oblasti zdravotnictví\, kde se nyní řeší elektronizace zdravotnické dokumentace\, tedy vysoce citlivých údajů. Budeme se zabývat tím\, jak je právně řešena ochrana zdravotnické dokumentace v digitálním prostředí\, kdo a za jakých podmínek může k takových datům přistoupit a co upravuje zákon o elektronizaci zdravotnictví a nařízení o EHDS \nPřijďte se dozvědět\, jaká rizika už dnes nepozorovaně pronikají do našeho každodenního života — a jak je možné jim čelit. Téma se týká každého\, kdo čte zprávy\, podepisuje dokumenty nebo věří tomu\, co vidí. \nProgram:\n09:30 – 10:00  Registrace\n10:00 – 10:15  Zahájení akce\n10:15 – 11:00  Využití blockchainu při vydávání osvědčení o akreditaci – Pavel Nosek\, 1. náměstek ředitele ČIA (Český institut pro akreditaci)\n11:00 – 12:00  Jak detekovat falešná videa a obrázky generované AI – Jan Čech\, vědecký pracovník\, Fakulta elektrotechnická\, ČVUT\n12:00 – 12:30  Networking & občerstvení\n12:30 – 13:15  Blockchain: AI – Otto Havle\, CEO ELA Blockchain Services s.r.o.\n13:15 – 13:45  Ochrana zdravotnické dokumentace v digitálním prostředí – Lenka Kaška\, Pfizer\n13:45 – 14:00  EDIH CTU – cesta k digitální transformaci – David Pešek\, ČVUT\n14:00 – 15:00  Diskuze & ukončení akce \nVstup na akci je zdarma\, je však nutné se registrovat zde.
URL:https://www.edihctu.eu/event/bezpecnost-dokumentu-fotografii-a-videa-v-dobe-generativni-ai/
LOCATION:Svaz průmyslu a dopravy ČR\, Freyova 948/11\, Praha 9 - Vysočany\, 190 00\, Czech Republic
CATEGORIES:spoluorganizujeme
ATTACH;FMTTYPE=image/png:https://www.edihctu.eu/wp-content/uploads/2025/06/250618_akce-SPCR.png
END:VEVENT
BEGIN:VEVENT
DTSTART;TZID=Europe/Helsinki:20251013T090000
DTEND;TZID=Europe/Helsinki:20251013T133000
DTSTAMP:20260420T142529
CREATED:20250916T090415Z
LAST-MODIFIED:20250917T122913Z
UID:3178-1760346000-1760362200@www.edihctu.eu
SUMMARY:Umělá inteligence: právo\, byznys\, budoucnost
DESCRIPTION:Dovolujeme si Vás srdečně pozvat na konferenci „Umělá inteligence: právo\, byznys\, budoucnost“\, která se koná pod záštitou našeho projektu EDIH CTU. \nKonference se uskuteční v pondělí 13. října 2025 od 9:00 v prostorách FUTUREUM\, Vítkovice 3044\, 703 00\, Ostrava. Prezence proběhne již od 8:30. \nAkce nabídne pohled na umělou inteligenci z různých úhlů\, od právních aspektů až po její praktické využití v průmyslu a byznysu. Mezi přednášejícími se můžete těšit na: \n\nDominik Šolc\, FORLEX s.r.o.\, advokátní kancelář – jeho přednáška se zaměří na AI a právo. Dozvíte se\, jaké právní otázky s sebou nese využívání AI a co přináší nový AI Act.\nKamil Košťál\, Key2Business s.r.o. – ukáže\, jak mohou LLM modely sloužit jako „digitální kolega“ ve strojírenství. Uvidíte konkrétní příklady\, jak AI pomáhá zrychlit rozhodování a podpořit inovace ve výrobních firmách.\nLumír Kunath\, BR Group a.s. – ve své prezentaci s názvem „Praktický přístup k umělé inteligenci v průmyslu“ se podělí o reálné zkušenosti s nasazováním AI v IT a firemních procesech\, které přináší měřitelné výsledky již dnes.\nDavid Pešek\, EDIH CTU – jak urychlit cestu k digitální transformaci.\n\n👉 Registrace je zdarma a nutná do 9. října 2025: ZDE  \nTěšíme se na Vás! \n  \n \n \n  \n 
URL:https://www.edihctu.eu/event/umela-inteligence-pravo-byznys-budoucnost/
LOCATION:Futureum\, Vítkovice 3044\, Ostrava\, Czech Republic
CATEGORIES:organizujeme,účastníme se
ATTACH;FMTTYPE=image/png:https://www.edihctu.eu/wp-content/uploads/2025/09/Umela-inteligence-pravo-byznys-budoucnost.png
END:VEVENT
BEGIN:VEVENT
DTSTART;TZID=Europe/Helsinki:20251021T090000
DTEND;TZID=Europe/Helsinki:20251021T110000
DTSTAMP:20260420T142529
CREATED:20250924T152023Z
LAST-MODIFIED:20251001T112551Z
UID:3216-1761037200-1761044400@www.edihctu.eu
SUMMARY:AI snídaně: Jak a kde začít s AI ve startupu
DESCRIPTION:Přijďte na ranní kávu\, kde se dozvíte konkrétní a efektivní kroky pro implementaci umělé inteligence do vašeho startupu. Žádné obecné fráze – zaměříme se na reálné nástroje a procesy\, které můžete začít používat ještě týž den pro zefektivnění marketingu\, provozu nebo vývoje. \n  \nProgram a hosté\n09:00–10:00\nJak využít AI ve firmě při rozjezdu \nPraktický přehled klíčových témat:\n>> Oblasti\, kde v projektu začít\n>> Doporučované nástroje (ChatGPT není lék na vše)\n>> Klíčové kroky pro realizaci \n  \n10:00–11:00\nCo si právně pohlídat u AI při rozjezdu\n(Petra Stupková a Jan Rosenthaler\, advokátní kancelář Legitas) \nPraktický přehled klíčových témat:\n>> Komu patří to\, co AI vytvoří\n>> Jak trénovat AI bez úniku citlivých dat\n>> Kdo nese riziko\, když se AI splete \n  \nAkce je určena především pro foundery startupů v různých fázích vývoje\, kteří se chtějí vyhnout nejčastějším právním chybám a zároveň sdílet zkušenosti s těmi\, kteří si podobnými situacemi již prošli. \n  \nKAPACITA JE OMEZENA – REGISTRACE PŘEDEM JE NUTNÁ ZDE.
URL:https://www.edihctu.eu/event/ai-snidane-jak-a-kde-zacit-s-ai-ve-startupu/
LOCATION:Aplifting\, Rohanské nábřeží 19\, Praha 8\, Czech Republic
CATEGORIES:organizujeme
ATTACH;FMTTYPE=image/png:https://www.edihctu.eu/wp-content/uploads/2025/09/AI-snidane.png
END:VEVENT
BEGIN:VEVENT
DTSTART;TZID=Europe/Helsinki:20251113T120000
DTEND;TZID=Europe/Helsinki:20251113T140000
DTSTAMP:20260420T142529
CREATED:20251027T121045Z
LAST-MODIFIED:20251027T121243Z
UID:3396-1763035200-1763042400@www.edihctu.eu
SUMMARY:AI jako užitečný pomocník ve firmě i na úřadě
DESCRIPTION:S radostí zveme malé a střední podniky i zástupce veřejného sektoru na akci organizovanou naším konsorciálním partnerem – Inovačním centrem Ústeckého kraje! \n\n\n  \nŘečníci:\n \nObjevte s Martinem Jechem na praktických příkladech\, jak může být ChatGPT spolehlivým pomocníkem ve vaší kanceláři. Naučte se\, jak jej efektivně implementovat i do svého pracovního prostředí. \n  \n  \n  \n\n\n  \n  \n\n\n  \nS Martinem Richterem prozkoumáme dynamicky se rozvíjející svět AI-generovaných manipulací a dezinformací. Ukážeme si\, jak (ne)snadné je takový manipulativní obsah odhalit. Rozpoznáme ho dřív\, než ovlivní naše rozhodování ve firmách a institucích? \n\n\n\n\n\n\n\n\n\n\nProgram akce:\n\n\nWORKSPACE: \n12:00 – 12:45   Martin Jech a moderace obsahu s ChatGPT pro firmy  \nCOFFEE BREAK \n12:55 – 13:40   Martin Jech a moderace obsahu s ChatGPT pro veřejnou správu \n13:40 – 14.00 NETWORKING \n\n\n  \n\n\nICUK SPACE CAFÉ: \n12:00 – 12:45   Martin Richter AI a dezinformace pro veřejnou správu \nCOFFEE BREAK \n12:55 – 13:40   Martin Richter AI a dezinformace pro firmy  \n  \n\n\nRegistrace:\nÚčast na akci je zdarma\, prosíme\, registrujte se zde. Těšíme se na Vás! \n 
URL:https://www.edihctu.eu/event/ai-jako-uzitecny-pomocnik-ve-firme-i-na-urade/
LOCATION:Inovační centrum Ústeckého kraje\, Velká Hradební 2800\, Ústí nad Labem
CATEGORIES:organizujeme
ATTACH;FMTTYPE=image/jpeg:https://www.edihctu.eu/wp-content/uploads/2025/10/AI-jako-pomocnik_ICUK_web-edihctu.jpg
END:VEVENT
BEGIN:VEVENT
DTSTART;TZID=Europe/Helsinki:20260325T083000
DTEND;TZID=Europe/Helsinki:20260325T153000
DTSTAMP:20260420T142529
CREATED:20260203T155351Z
LAST-MODIFIED:20260203T155933Z
UID:3580-1774427400-1774452600@www.edihctu.eu
SUMMARY:Workshop pro firmy: Robotický 3D tisk Simulace\, monitorování a řízení procesů aditivní výroby
DESCRIPTION:S polečně s našimi partnery Vás srdečně zveme na aplikačně orientovaný workshop zaměřený na využití průmyslových robotů v 3D tisku. \nAkce je určena především koncovým uživatelům aditivních technologií\, technologům\, vývojářům a odborníkům z průmyslu i výzkumu\, kteří se zabývají návrhem a realizací aditivních výrobních procesů. Akce se zaměřuje na procesy WAAM (Wire Arc Additive Manufacturing)\, LMD (Laser Metal Deposition) a PEM (Plastic Extrusion Modelling). S přednáškami vystoupí členové výzkumných týmů RICAIP Testbed Praha společně s vývojáři a technickými experty předních českých i evropských firem dodávajících kompletní systémy pro robotickou aditivní výrobu. \n  \nRegistrujte se a rezervujte si své místo zde! \n  \nHlavním cílem akce je představení technických řešení\, sdílení zkušeností z reálného provozu a aktuálních trendů v oblasti robotické aditivní výroby – od simulací a digitálního modelování přes procesní monitoring až po kontrolu kvality a adaptivní řízení výroby. \nWorkshop je koncipován jako odborná technická akce. Důraz je kladen na objasnění principů řešení\, architektury systémů\, využití procesních dat a také zohlednění limitů technologií. \n\nProč se zúčastnit\n\nzískáte konkrétní technické know-how z oblasti robotické AM\,\nuvidíte reálné systémy přímo v testbedu\, ne pouze prezentace\,\nbudete mít prostor pro odbornou diskuzi bez marketingového balastu\,\nnavážete kontakty s vývojáři technologií i výzkumnými týmy ČVUT.\n\n  \nUnikátní formát akce\nWorkshop není omezen jen na přednáškový sál – odpolední část programu probíhá přímo u funkčních technologií v RICAIP Testbedu Praha\, kde je možné vidět a diskutovat konkrétní technické detaily\, data a provozní zkušenosti. \n  \n\n\n         \n\n\n\n\n\n               \n\n\n\n\n\nPrůmysloví partneři: \n\n\n\n\n\n\n\n\n\n\nOdborný obsah a zapojení průmyslu\nCílem je vytvořit platformu pro technickou diskusi mezi: \n\nprůmyslovými uživateli\,\nvýrobci a integrátory technologií\,\nvýzkumnými týmy.\n\nTechnické prezentace budou také doplněny informacemi o možnostech financování spolupráce s výzkumnými týmy ČVUT díky AI-MATTERS/TEF a EDIH CTU. \n\n\nTémata workshopu\n\ntechnologie aditivní výroby (LMD z drátu i z prášku\, WAAM\, PEM)\,\nsimulace a digitální modelování procesů\,\nprocesní monitoring a sběr dat\,\npříprava drah pro roboty a řízení robotů\,\nřízení a stabilizace výrobních procesů\,\ninprocesní kontrola jakosti\,\nsynergie výzkumu a průmyslové praxe.\n\n\n\n\n\n\nJak bude workshop probíhat\nDopolední část – technické prezentace \n\npřehled současných přístupů k robotické aditivní výrobě\,\nsimulace\, modelování a řízení procesů LMD\, WAAM a PEM\,\ntechnická řešení monitoringu a kontroly kvality z pohledu výrobců kompletních systémů\,\nodborná diskuze nad limity technologií a jejich průmyslovým nasazením.\n\n\n\n  \n\n\nOdpolední část – ukázky v laboratořích \n\ndemonstrace procesů přímo v laboratořích RICAIP Testbedu Praha na CIIRC ČVUT\,\nukázky reálného provozu robotických systémů (PEM\, LMD\, WAAM)\,\nmožnost technické diskuze přímo u zařízení\,\nprostor pro individuální dotazy\, face-to-face konzultace možností spolupráce.\n\n\n\n\nProgram\n\n\n\n\n\n08:30 – 09:00\nRegistrace a příchod hostů\n\n\n\n\n\n\n09:00-09:05\nZahájení a úvodní slovo\nPetr Kolář\, RCMT FS ČVUT\, IPA CIIRC ČVUT\n\n\n09:05-09:15\nPrůmyslové roboty a aditivní technologie: silné a efektivní řešení pro výrobu\nPetr Kolář\, RCMT FS ČVUT\, IPA CIIRC ČVUT\n\n\n09:15-09:35\nMožnosti monitoringu a řízení procesu LMD-w\nMartin Novák\, RCMT FS ČVUT\n\n\n09:35 -09:55\nŘešení pro kontrolu kvality procesu LMD-p firmy LaserTherm\nzástupce firmy LaserTherm\n\n\n09:55 – 10:15\nVyužití simulací pro zvýšení jakosti procesu LMD-w\nTomáš Jochman\, RICAIP Testbed Praha\, CIIRC ČVUT\n\n\n10:15 – 10:35\nŘešení pro kontrolu kvality procesu LMD-w dle zkušeností firmy MELTIO\nzástupce firmy Meltio\n\n\n10:35 – 11:00\nPřestávka\, diskuze a občerstvení\nMožnost prohlídky technologické expozice\n\n\n11:00 – 11:20\nMožnosti modelování a řízení procesu WAAM\nVojtěch Votruba\, RCMT FS ČVUT\n\n\n11:20 – 11:40\nŘešení pro kontrolu kvality procesu WAAM\n\n\n11:40 – 12:00\nVýzvy v řízení velkoformátového 3D tisku PEM\nMichal Rytíř\, IPA CIIRC ČVUT\n\n\n12:00 – 12:20\nNasazení a využití velkoformátového 3D tisku PEM v praxi z pohledu firmy TGS\nDaniel Fencl\, TGS\n\n\n12:20 – 12:30\nNabídka financování spolupráce s výzkumnými týmu ČVUT s podporou AI-MATTERS/ TEF a EDIH CTU\nOndřej Beránek\, AI-MATTERS\, CIIRC ČVUT\n\n\n\n\n\n\n\n\n12:30 – 13:20\nOběd na místě\, networking\n\n\n\nPraktické ukázky přímo v RICAIP Testbed Praha\n\n\n13:20 – 13:30\nÚvod k ukázkám v laboratořích RICAIP Testbedu Praha\nPetr Kolář\, RCMT FS ČVUT\, IPA CIIRC ČVUT\n\n\n13:30 – 13:50\nLaboratorní ukázka 1:\nProces PEM v dolním testbedu\nMichal Rytíř\, IPA CIIRC ČVUT\n\n\n13:50 – 14:10\nLaboratorní ukázka 2:\nProces LMD-w s procesní hlavou MELTIO\nTomáš Jochman\, RICAIP Testbed Praha\, CIIRC ČVUT\n\n\n14:10 – 14:30\nLaboratorní ukázka 3:\nHybridní výrobní proces WAAM & obrábění\nVojtěch Votruba\, RCMT FS ČVUT\n\n\n14:30 – 14:50\nLaboratorní ukázka 4:\nProces LMD-w s procesní hlavou PRECITEC\nMartin Novák\, RCMT FS ČVUT\n\n\n14:50 – 15:30\nShrnutí\, networking a face2face diskuze v prostorách RICAIP Testbed Praha\, konzultace témat spolupráce\n\n\n\nAkci moderuje a kvalitu programu garantuje Petr Kolář. \n\n\n\nRegistrace\nÚčast na akci je bezplatná po předchozí registraci. Z důvodu omezené kapacity doporučujeme včasnou registraci.\nOrganizátor si vyhrazuje právo potvrdit účast s ohledem na odborné zaměření akce. \n  \nRegistrujte se a rezervujte si své místo zde! \n  \n 
URL:https://www.edihctu.eu/event/workshop-pro-firmy-roboticky-3d-tisk-simulace-monitorovani-a-rizeni-procesu-aditivni-vyroby/
LOCATION:Český institut informatiky\, robotiky a kybernetiky\, ČVUT\, Jugoslávských partyzánů 1580/3\, Praha 6\, 16000
CATEGORIES:organizujeme,spoluorganizujeme
ATTACH;FMTTYPE=image/jpeg:https://www.edihctu.eu/wp-content/uploads/2026/02/Roboticky-3D-tisk.jpg
END:VEVENT
END:VCALENDAR